BEGIN:VCALENDAR
VERSION:2.0
PRODID:-//Social Media Enthusiasts - ECPv6.15.17.1//NONSGML v1.0//EN
CALSCALE:GREGORIAN
METHOD:PUBLISH
X-WR-CALNAME:Social Media Enthusiasts
X-ORIGINAL-URL:https://socialmediaenthusiasts.com
X-WR-CALDESC:Events for Social Media Enthusiasts
REFRESH-INTERVAL;VALUE=DURATION:PT1H
X-Robots-Tag:noindex
X-PUBLISHED-TTL:PT1H
BEGIN:VTIMEZONE
TZID:UTC
BEGIN:STANDARD
TZOFFSETFROM:+0000
TZOFFSETTO:+0000
TZNAME:UTC
DTSTART:20240101T000000
END:STANDARD
END:VTIMEZONE
BEGIN:VEVENT
DTSTART;TZID=UTC:20250617T130000
DTEND;TZID=UTC:20250617T140000
DTSTAMP:20260419T234552
CREATED:20240613T213938Z
LAST-MODIFIED:20250521T023733Z
UID:7691-1750165200-1750168800@socialmediaenthusiasts.com
SUMMARY:FREE LIVE Masterclass: 5 Proven Ways to Grow Your Franchise with Social Media June 17th
DESCRIPTION:FREE LIVE Masterclass: “5 Proven Ways to Grow Your Franchise with Social Media” \nRegister now \n\n🌟 Course Highlights:\n\nFoundations of Social Media: Gain a solid understanding of key social media platforms and how to leverage them effectively.\nContent Creation: Learn the art of crafting compelling content that captivates your audience and drives engagement.\nCommunity Building: Master the strategies to grow and nurture a thriving online community around your brand or business.\nAnalytics and Measurement: Dive into the metrics that matter and discover how to analyze and refine your social media strategy for optimal results. \nRegister now \n 
URL:https://socialmediaenthusiasts.com/event/free-live-masterclass-5-proven-ways-to-grow-your-franchise-with-social-media-jan-7th/
CATEGORIES:Training Events
ATTACH;FMTTYPE=image/png:https://socialmediaenthusiasts.com/wp-content/uploads/2024/06/5-Proven-Ways-to-Grow-Your-Franchise-With-Social-Media.png
END:VEVENT
BEGIN:VEVENT
DTSTART;TZID=UTC:20250619T130000
DTEND;TZID=UTC:20250619T140000
DTSTAMP:20260419T234552
CREATED:20240613T192901Z
LAST-MODIFIED:20250521T023816Z
UID:7684-1750338000-1750341600@socialmediaenthusiasts.com
SUMMARY:💥FREE Masterclass: 5 Ways to Grow Your Business with Send Social Media June 19th
DESCRIPTION:5 Ways to Grow Your Business with Send Social Media: CLICK HERE to register!\n\nJoin the thousands of franchisors\, agencies\, and businesses that use Send Social Media for Social Media Management. Learn how to engage with customers\, measure results\, and monitor your brand. We will review the top five ways businesses have grown significantly\, saved time\, and increased brand awareness easily using Send Social Media.\n\n\nCLICK HERE to register!
URL:https://socialmediaenthusiasts.com/event/%f0%9f%92%a5free-masterclass-5-ways-grow-your-business-with-send-social-media/
CATEGORIES:Online Training Events
ATTACH;FMTTYPE=image/png:https://socialmediaenthusiasts.com/wp-content/uploads/2024/06/unnamed.png
END:VEVENT
BEGIN:VEVENT
DTSTART;TZID=UTC:20250623T100000
DTEND;TZID=UTC:20250623T160000
DTSTAMP:20260419T234552
CREATED:20240613T201525Z
LAST-MODIFIED:20250521T023849Z
UID:7687-1750672800-1750694400@socialmediaenthusiasts.com
SUMMARY:Virtual Classroom: Social Media Management Beginner Certification June 23
DESCRIPTION:Attend Anywhere In the World from your Computer!\nSocial Media Marketing Certification Boot Camp training\nLearn EVERYTHING you need to know to be a Social Media Manager for your company! Do you want to know exactly how to reach your target audience with social media? Would you like an employee to acquire the skills needed to handle social media marketing for your company? Then this training session is for you! Learn how to attract more leads with social media marketing. Your teacher will be available to schedule a 30-minute follow–up phone call session after you train to review any additional questions you have before taking the final exam. \nGRAB MY TICKET \nINTERESTED IN A 2-DAY BOOT CAMP? Take the ADVANCED SOCIAL MEDIA TRAINING COURSE the next day! \nYou will walk away with a workbook and plan of action you can implement so you can spend your precious time investing in strategies that get results. We will provide you with hands-on classroom training. You will also have the ability to network and build relationships with your local peers to help grow your business. \nThe Super Early Bird RSVP ticket will lock you in for a limited time at an investment of only $99. The price does go up as we get closer to the event\, so be sure to lock in your discounted rate today! Normally $349 per workshop.\nGRAB MY TICKET \nMeet your teacher\, Michelle Hummel\n2X Winner of Business Person of the Year via Alignable and Nominated for the Woman-Owned Business of the Year! CEO and Founder of Web Strategy Plus\, a full-service digital marketing agency\, and Web Media University\, a social media certification training school. Founder of the Social Media Enthusiasts with 26 Chapters Nationwide. She’s a passionate Social Media Trainer with 15+ years of successful online business development\, sales\, and marketing experience. She also holds a valuable Internet Marketing Degree\, however\, in the ever-changing world of web marketing\, she strives to learn something new every day. \nIndustries we specialize in for Social Media Training \nAccountants & Financial Services\nAuthors & Writers\nChiropractors\nConstruction\nDaycares\nDentists\nEducational Facilities\nEntertainment & Recreation\nFashion & Beauty\nFitness\nFinancial Industry & Brokers\nFranchisees & Franchisors\nHealthcare\nHome Builders\nHospitality\nInsurance Agents\nLegal\nMarketers\nMusicians\nNon-Profits\nOnline Stores\nPet Businesses\nReal Estate & Realtors\nHome Builders\nRecruiters\nRestaurants\nRetail\nSales\nSalons & Spas\nSmall Businesses\nTravel \nSee what other attendees are saying: \n“I took Michelle Hummel’s Social Media Boot Camp course and she was EXTREMELY informative and helpful. She was easy to listen to\, the course was interactive\, and I learned SO much. I will be recommending this to the rest of my marketing coworkers. Thank you\, Michelle!”Schuyler Esen\, Social Media Marketing Specialist\, Hills Properties \n“Michelle shared her expertise on how to successfully manage a social media strategy for a business. She started the class with an introduction to various media platforms. Then she provided me with tools and tips to create posts\, grow our audience\, and manage time. Great class!”Molly Weaver\, Capacity Coordinator\, Covington Business Council \nGRAB MY TICKET
URL:https://socialmediaenthusiasts.com/event/virtual-classroom-social-media-management-beginner-certification-july-29th/
CATEGORIES:Social Media Certification
ATTACH;FMTTYPE=image/jpeg:https://socialmediaenthusiasts.com/wp-content/uploads/2024/06/https___cdn.evbuc_.com_images_686478969_61771826003_1_original.jpg
END:VEVENT
END:VCALENDAR