BEGIN:VCALENDAR
VERSION:2.0
PRODID:-//Social Media Enthusiasts - ECPv6.15.17.1//NONSGML v1.0//EN
CALSCALE:GREGORIAN
METHOD:PUBLISH
X-WR-CALNAME:Social Media Enthusiasts
X-ORIGINAL-URL:https://socialmediaenthusiasts.com
X-WR-CALDESC:Events for Social Media Enthusiasts
REFRESH-INTERVAL;VALUE=DURATION:PT1H
X-Robots-Tag:noindex
X-PUBLISHED-TTL:PT1H
BEGIN:VTIMEZONE
TZID:UTC
BEGIN:STANDARD
TZOFFSETFROM:+0000
TZOFFSETTO:+0000
TZNAME:UTC
DTSTART:20150101T000000
END:STANDARD
END:VTIMEZONE
BEGIN:VEVENT
DTSTART;TZID=UTC:20161001T090000
DTEND;TZID=UTC:20161001T160000
DTSTAMP:20260420T160243
CREATED:20160920T101338Z
LAST-MODIFIED:20160920T101338Z
UID:2914-1475312400-1475337600@socialmediaenthusiasts.com
SUMMARY:A Woman’s Guide to Powerful Presentations - Sponsored by Web Strategy Plus
DESCRIPTION:Join the Web Strategy + Team as we learn from Kay Fittes… She helps today’s business women break through obstacles and move forward on their success path! Plus\, MEET Michelle Hummel – The Social Media Magnet!
URL:https://socialmediaenthusiasts.com/event/a-womans-guide-to-powerful-presentations-sponsored-by-web-strategy-plus-2/
LOCATION:Crown Plaza Cincinnati Blue Ash\, 5901 Pfeiffer Road - White Oak Room 2nd Fl\, Cincinnati\, OH\, 45242\, United States
CATEGORIES:Training Events
ORGANIZER;CN="Michelle Hummel":MAILTO:info@michelleshummel.com
END:VEVENT
BEGIN:VEVENT
DTSTART;TZID=UTC:20161001T090000
DTEND;TZID=UTC:20161001T160000
DTSTAMP:20260420T160243
CREATED:20160920T101338Z
LAST-MODIFIED:20160920T101338Z
UID:2875-1475312400-1475337600@socialmediaenthusiasts.com
SUMMARY:A Woman’s Guide to Powerful Presentations - Sponsored by Web Strategy Plus
DESCRIPTION:Join the Web Strategy + Team as we learn from Kay Fittes… She helps today’s business women break through obstacles and move forward on their success path! Plus\, MEET Michelle Hummel – The Social Media Magnet!
URL:https://socialmediaenthusiasts.com/event/a-womans-guide-to-powerful-presentations-sponsored-by-web-strategy-plus/
LOCATION:Crown Plaza Cincinnati Blue Ash\, 5901 Pfeiffer Road - White Oak Room 2nd Fl\, Cincinnati\, OH\, 45242\, United States
CATEGORIES:Training Events
ORGANIZER;CN="Michelle Hummel":MAILTO:info@michelleshummel.com
END:VEVENT
BEGIN:VEVENT
DTSTART;TZID=UTC:20161004T073000
DTEND;TZID=UTC:20161004T183000
DTSTAMP:20260420T160243
CREATED:20160805T163449Z
LAST-MODIFIED:20160805T163449Z
UID:2663-1475566200-1475605800@socialmediaenthusiasts.com
SUMMARY:Social Media Interactive Conference - DAYTON\, OH
DESCRIPTION:WHO SHOULD ATTEND?\nSocial Media Interactive is a social media conference designed for every level user. With a “How-To” Lab\, a Novice track and a Pro track\, this conference will tackle social media from all angles! \nWHAT WILL I LEARN?\nWe have an action-packed schedule filled with new social media platforms\, strategies\, and how-tos. Get a 10% discount on tickets by using the promo code speaker.   www.smidayton.com/tickets \nOur own MICHELLE HUMMEL will be a featured speaker with her topic: Targeted Marketing Strategies & Web Strategy Assessment\, 11:30AM – 12:30PM \nMichelle is a passionate Internet Marketer with 15+ years of successful online marketing experience. She holds a valuable Internet Marketing Degree and travels Nationwide providing social media keynotes and in-depth training. CEO and founder of Web Strategy Plus a full service digital marketing agency assisting clients with branding initiatives Nationwide. Founder of Web Media University offering virtual and in-person social media training to corporations. Also a current contributing editor to The Social Media Monthly Magazine. A few of her specialties are Social Media Marketing\, Web Design/Development\, Content Creation\, Brand Development and Public Speaking.
URL:https://socialmediaenthusiasts.com/event/social-media-interactive-conference-dayton-oh/
LOCATION:Sinclair Ponitz Conference Center\, 444 W 3rd St\, Dayton\, OH\, United States
CATEGORIES:Social Media Conference
ATTACH;FMTTYPE=image/png:https://socialmediaenthusiasts.com/wp-content/uploads/2016/08/SMI-Logo-1.png
END:VEVENT
BEGIN:VEVENT
DTSTART;TZID=UTC:20161004T073000
DTEND;TZID=UTC:20161004T183000
DTSTAMP:20260420T160243
CREATED:20160805T163449Z
LAST-MODIFIED:20160805T163449Z
UID:2907-1475566200-1475605800@socialmediaenthusiasts.com
SUMMARY:Social Media Interactive Conference - DAYTON\, OH
DESCRIPTION:WHO SHOULD ATTEND?\nSocial Media Interactive is a social media conference designed for every level user. With a “How-To” Lab\, a Novice track and a Pro track\, this conference will tackle social media from all angles! \nWHAT WILL I LEARN?\nWe have an action-packed schedule filled with new social media platforms\, strategies\, and how-tos. Get a 10% discount on tickets by using the promo code speaker.   www.smidayton.com/tickets \nOur own MICHELLE HUMMEL will be a featured speaker with her topic: Targeted Marketing Strategies & Web Strategy Assessment\, 11:30AM – 12:30PM \nMichelle is a passionate Internet Marketer with 15+ years of successful online marketing experience. She holds a valuable Internet Marketing Degree and travels Nationwide providing social media keynotes and in-depth training. CEO and founder of Web Strategy Plus a full service digital marketing agency assisting clients with branding initiatives Nationwide. Founder of Web Media University offering virtual and in-person social media training to corporations. Also a current contributing editor to The Social Media Monthly Magazine. A few of her specialties are Social Media Marketing\, Web Design/Development\, Content Creation\, Brand Development and Public Speaking.
URL:https://socialmediaenthusiasts.com/event/social-media-interactive-conference-dayton-oh-2/
LOCATION:Sinclair Ponitz Conference Center\, 444 W 3rd St\, Dayton\, OH\, United States
CATEGORIES:Social Media Conference
ATTACH;FMTTYPE=image/png:https://socialmediaenthusiasts.com/wp-content/uploads/2016/08/SMI-Logo-1.png
END:VEVENT
BEGIN:VEVENT
DTSTART;TZID=UTC:20161006T090000
DTEND;TZID=UTC:20161006T170000
DTSTAMP:20260420T160243
CREATED:20160609T214632Z
LAST-MODIFIED:20160609T214632Z
UID:2523-1475744400-1475773200@socialmediaenthusiasts.com
SUMMARY:Virtual Social Media Bootcamp Certification Training ANYWHERE\, USA
DESCRIPTION:
URL:https://socialmediaenthusiasts.com/event/live-online-social-media-bootcamp-certification-training-4/
CATEGORIES:Online Training Events
ATTACH;FMTTYPE=image/jpeg:https://socialmediaenthusiasts.com/wp-content/uploads/2016/06/BEST-WMU.jpg
END:VEVENT
BEGIN:VEVENT
DTSTART;TZID=UTC:20161006T090000
DTEND;TZID=UTC:20161006T170000
DTSTAMP:20260420T160243
CREATED:20160609T214632Z
LAST-MODIFIED:20160609T214632Z
UID:2896-1475744400-1475773200@socialmediaenthusiasts.com
SUMMARY:Virtual Social Media Bootcamp Certification Training ANYWHERE\, USA
DESCRIPTION:
URL:https://socialmediaenthusiasts.com/event/live-online-social-media-bootcamp-certification-training-4-2/
CATEGORIES:Online Training Events
ATTACH;FMTTYPE=image/jpeg:https://socialmediaenthusiasts.com/wp-content/uploads/2016/06/BEST-WMU.jpg
END:VEVENT
BEGIN:VEVENT
DTSTART;TZID=UTC:20161018T113000
DTEND;TZID=UTC:20161018T130000
DTSTAMP:20260420T160243
CREATED:20160831T031658Z
LAST-MODIFIED:20160831T031658Z
UID:2767-1476790200-1476795600@socialmediaenthusiasts.com
SUMMARY:FREE Lunch & Learn: How to Implement a Powerful Networking Strategy
DESCRIPTION:What if there was a way to ensure that Relationships foster Referrals which then produce Results? We call this the 3 R’s of networking: Relationships\, Referrals\, Results.
URL:https://socialmediaenthusiasts.com/event/free-lunch-learn-how-to-implement-a-powerful-networking-strategy/
LOCATION:Campbell County Library\, Newport Branch 901 E 6th St\, Newport\, KY\, United States
ATTACH;FMTTYPE=image/jpeg:https://socialmediaenthusiasts.com/wp-content/uploads/2016/08/EVENT-YEA.jpg
ORGANIZER;CN="Michelle Hummel":MAILTO:info@michelleshummel.com
END:VEVENT
BEGIN:VEVENT
DTSTART;TZID=UTC:20161018T113000
DTEND;TZID=UTC:20161018T130000
DTSTAMP:20260420T160243
CREATED:20160831T031658Z
LAST-MODIFIED:20160831T031658Z
UID:2909-1476790200-1476795600@socialmediaenthusiasts.com
SUMMARY:FREE Lunch & Learn: How to Implement a Powerful Networking Strategy
DESCRIPTION:What if there was a way to ensure that Relationships foster Referrals which then produce Results? We call this the 3 R’s of networking: Relationships\, Referrals\, Results.
URL:https://socialmediaenthusiasts.com/event/free-lunch-learn-how-to-implement-a-powerful-networking-strategy-2/
LOCATION:Campbell County Library\, Newport Branch 901 E 6th St\, Newport\, KY\, United States
ATTACH;FMTTYPE=image/jpeg:https://socialmediaenthusiasts.com/wp-content/uploads/2016/08/EVENT-YEA.jpg
ORGANIZER;CN="Michelle Hummel":MAILTO:info@michelleshummel.com
END:VEVENT
END:VCALENDAR