BEGIN:VCALENDAR
VERSION:2.0
PRODID:-//Social Media Enthusiasts - ECPv6.15.17.1//NONSGML v1.0//EN
CALSCALE:GREGORIAN
METHOD:PUBLISH
X-WR-CALNAME:Social Media Enthusiasts
X-ORIGINAL-URL:https://socialmediaenthusiasts.com
X-WR-CALDESC:Events for Social Media Enthusiasts
REFRESH-INTERVAL;VALUE=DURATION:PT1H
X-Robots-Tag:noindex
X-PUBLISHED-TTL:PT1H
BEGIN:VTIMEZONE
TZID:UTC
BEGIN:STANDARD
TZOFFSETFROM:+0000
TZOFFSETTO:+0000
TZNAME:UTC
DTSTART:20150101T000000
END:STANDARD
END:VTIMEZONE
BEGIN:VEVENT
DTSTART;TZID=UTC:20160802T113000
DTEND;TZID=UTC:20160802T130000
DTSTAMP:20260420T200507
CREATED:20160622T161156Z
LAST-MODIFIED:20160622T161156Z
UID:2583-1470137400-1470142800@socialmediaenthusiasts.com
SUMMARY:FREE Lunch & Learn: How to Successfully Manage Your Business Reputation Online CINCINNATI\, OH
DESCRIPTION:
URL:https://socialmediaenthusiasts.com/event/free-lunch-learn-how-to-successfully-manage-your-business-reputation-online/
LOCATION:Campbell County Library\, Newport Branch 901 E 6th St\, Newport\, KY\, United States
CATEGORIES:Networking Events
ATTACH;FMTTYPE=image/jpeg:https://socialmediaenthusiasts.com/wp-content/uploads/2014/11/csme.jpg
END:VEVENT
BEGIN:VEVENT
DTSTART;TZID=UTC:20160802T113000
DTEND;TZID=UTC:20160802T130000
DTSTAMP:20260420T200507
CREATED:20160622T161156Z
LAST-MODIFIED:20160622T161156Z
UID:2904-1470137400-1470142800@socialmediaenthusiasts.com
SUMMARY:FREE Lunch & Learn: How to Successfully Manage Your Business Reputation Online CINCINNATI\, OH
DESCRIPTION:
URL:https://socialmediaenthusiasts.com/event/free-lunch-learn-how-to-successfully-manage-your-business-reputation-online-2/
LOCATION:Campbell County Library\, Newport Branch 901 E 6th St\, Newport\, KY\, United States
CATEGORIES:Networking Events
ATTACH;FMTTYPE=image/jpeg:https://socialmediaenthusiasts.com/wp-content/uploads/2014/11/csme.jpg
END:VEVENT
BEGIN:VEVENT
DTSTART;TZID=UTC:20160804T090000
DTEND;TZID=UTC:20160804T170000
DTSTAMP:20260420T200507
CREATED:20160609T214511Z
LAST-MODIFIED:20160609T214511Z
UID:2894-1470301200-1470330000@socialmediaenthusiasts.com
SUMMARY:Live Online Social Media Bootcamp Certification Training ANYWHERE\, USA
DESCRIPTION:
URL:https://socialmediaenthusiasts.com/event/live-online-social-media-bootcamp-certification-training-2-2/
CATEGORIES:Online Training Events
ATTACH;FMTTYPE=image/jpeg:https://socialmediaenthusiasts.com/wp-content/uploads/2016/06/WMU-Seal.jpg
END:VEVENT
BEGIN:VEVENT
DTSTART;TZID=UTC:20160804T090000
DTEND;TZID=UTC:20160804T170000
DTSTAMP:20260420T200507
CREATED:20160609T214511Z
LAST-MODIFIED:20160609T214511Z
UID:2521-1470301200-1470330000@socialmediaenthusiasts.com
SUMMARY:Live Online Social Media Bootcamp Certification Training ANYWHERE\, USA
DESCRIPTION:
URL:https://socialmediaenthusiasts.com/event/live-online-social-media-bootcamp-certification-training-2/
CATEGORIES:Online Training Events
ATTACH;FMTTYPE=image/jpeg:https://socialmediaenthusiasts.com/wp-content/uploads/2016/06/WMU-Seal.jpg
END:VEVENT
BEGIN:VEVENT
DTSTART;TZID=UTC:20160818T090000
DTEND;TZID=UTC:20160818T170000
DTSTAMP:20260420T200507
CREATED:20160721T180740Z
LAST-MODIFIED:20160721T180740Z
UID:2611-1471510800-1471539600@socialmediaenthusiasts.com
SUMMARY:Social Media Management and Marketing Certification CINCINNATI\, OH
DESCRIPTION:
URL:https://socialmediaenthusiasts.com/event/social-media-management-and-marketing-certification/
LOCATION:Indiana Wesleyan University\, 9286 Schulze Dr\, West Chester Township\, 45069
END:VEVENT
BEGIN:VEVENT
DTSTART;TZID=UTC:20160818T090000
DTEND;TZID=UTC:20160818T170000
DTSTAMP:20260420T200507
CREATED:20160721T180740Z
LAST-MODIFIED:20160721T180740Z
UID:2905-1471510800-1471539600@socialmediaenthusiasts.com
SUMMARY:Social Media Management and Marketing Certification CINCINNATI\, OH
DESCRIPTION:
URL:https://socialmediaenthusiasts.com/event/social-media-management-and-marketing-certification-2/
LOCATION:Indiana Wesleyan University\, 9286 Schulze Dr\, West Chester Township\, 45069
END:VEVENT
END:VCALENDAR