BEGIN:VCALENDAR
VERSION:2.0
PRODID:-//Social Media Enthusiasts - ECPv6.15.17.1//NONSGML v1.0//EN
CALSCALE:GREGORIAN
METHOD:PUBLISH
X-WR-CALNAME:Social Media Enthusiasts
X-ORIGINAL-URL:https://socialmediaenthusiasts.com
X-WR-CALDESC:Events for Social Media Enthusiasts
REFRESH-INTERVAL;VALUE=DURATION:PT1H
X-Robots-Tag:noindex
X-PUBLISHED-TTL:PT1H
BEGIN:VTIMEZONE
TZID:UTC
BEGIN:STANDARD
TZOFFSETFROM:+0000
TZOFFSETTO:+0000
TZNAME:UTC
DTSTART:20160101T000000
END:STANDARD
END:VTIMEZONE
BEGIN:VEVENT
DTSTART;TZID=UTC:20191213T090000
DTEND;TZID=UTC:20191213T170000
DTSTAMP:20260419T095736
CREATED:20191119T222326Z
LAST-MODIFIED:20191119T222326Z
UID:3790-1576227600-1576256400@socialmediaenthusiasts.com
SUMMARY:NEW YORK\, NY Social Media Marketing Certification Boot Camp Class
DESCRIPTION:
URL:https://socialmediaenthusiasts.com/event/new-york-ny-social-media-marketing-certification-boot-camp-class/
CATEGORIES:Social Media Certification
ATTACH;FMTTYPE=image/png:https://socialmediaenthusiasts.com/wp-content/uploads/2018/07/google.png
END:VEVENT
BEGIN:VEVENT
DTSTART;TZID=UTC:20190604T090000
DTEND;TZID=UTC:20190604T170000
DTSTAMP:20260419T095736
CREATED:20190424T160346Z
LAST-MODIFIED:20190424T160346Z
UID:3761-1559638800-1559667600@socialmediaenthusiasts.com
SUMMARY:ANYWHERE\, USA Virtual Live Classroom Social Media Boot Camp Certification
DESCRIPTION:Attend Anywhere In the World!!\nPLEASE HURRY\, THIS WILL SELL OUT!!\nRSVP: https://www.eventbrite.com/e/virtual-live-classroom-social-media-certification-tickets-38844813884 \nUse PROMO CODE – WSP – to get $50 off your order for a limited time! \nSocial Media Boot Camp training will be from 9am to 5pm EST (with breaks) \nHere’s What to Expect in Your Social Media Bootcamp Training Program\nContent Overview\nSession #1 – Targeted Marketing Strategies 9am – 11am\nIntroduction to the Social Media Management role\, best practices\, tools and must-have resources\nLearn secret strategies to find your target audience on Twitter\, Facebook\, YouTube\, Pinterest\, LinkedIn and Google Plus\nSee how easy it is to discover Key Influencers on social media and develop strategic relationships to help grow your business\nLearn how to easily monitor Facebook and Twitter conversations with targeted keywords to find your customers\nLearn how to create Twitter leads lists and import them into the Send Social Media Management dashboard for monitoring and engagement\nClassroom Work: You will create your Targeted Marketing Profiles\nLUNCH BREAK AS NEEDED 11am – 12pm\nBREAKOUT\, Q&A WITH TEACHER\, 11:30am – 12pm\nSession #2 – Develop Your Content Marketing Strategy 12pm – 2:30pm\nIntroduction on how to develop a magnetic content marketing strategy to attract customers to your brand\nLearn how to build social media followers fast and inspire them to become Brand Advocates\nWe will review best practices and give you several great ideas you can use for your content strategy\nLearn how you can use tools like Send Social Media and Feed.ly to quickly find quality content\nYou will be provided with a Social Media Marketing Calendar template which you will use to start building your own strategy\nClassroom Work: You will create your Social Media Marketing Calendar\nBREAKOUT\, Q&A WITH TEACHER\, 2:30pm – 3pm\nSession #3 – Execute Your Content Marketing Strategy 3pm – 5pm\nIntroduction on how to use the Send Social Media Management Dashboard\nHow to add and manage your Facebook\, Twitter\, LinkedIn\, Google Plus\, Instagram\, Foursquare\, YouTube\, WordPress and Pinterest\nHow to set up your Twitter Welcome Tweets\, List\, Searches\, Retweets and AutoReplies\nHow to create an Email and SMS Mobile marketing campaign\nHow to optimize your social media posts – the best time to post\, repeat your posts\, add lead generation links\, create custom designs\, add videos & automate your RSS feed\nHow to pull reports to optimize your social media strategies\nClassroom Work: You will input your Social Media Content into the posting dashboard\nRSVP: https://www.eventbrite.com/e/virtual-live-classroom-social-media-certification-tickets-38844813884\nIn-Depth\, Industry Specific Training\nWe will review your homework and provide answers to specific questions that relate to your Industry. We will deliver in-depth training and help you understand the Social Media Tools that are right for your business. \nIndustries we specialize in for Social Media Training:\nAccountants\nAuthors/Writers\nConstruction\nEducational Facilities\nEntertainment\nFashion/Beauty/Fitness\nFinancial/Brokers/Insurance\nHealthcare\nHospitality\nLegal\nMarketers\nMusicians\nNon Profits\nReal Estate/Realtors/Home Builders\nRecruiters\nRestaurant\nRetail\nSales\nTravel
URL:https://socialmediaenthusiasts.com/event/anywhere-usa-virtual-live-classroom-social-media-boot-camp-certification/
CATEGORIES:Social Media Certification
ATTACH;FMTTYPE=image/png:https://socialmediaenthusiasts.com/wp-content/uploads/2018/07/google.png
END:VEVENT
BEGIN:VEVENT
DTSTART;TZID=UTC:20190523T090000
DTEND;TZID=UTC:20190523T170000
DTSTAMP:20260419T095736
CREATED:20181030T231109Z
LAST-MODIFIED:20181030T231109Z
UID:3679-1558602000-1558630800@socialmediaenthusiasts.com
SUMMARY:FLORENCE\, KY Social Media Management and Marketing Certification Boot Camp Class
DESCRIPTION:Social Media Management and Marketing Certification \nGet hands-on training with MICHELLE HUMMEL\, CEO of Web Strategy Plus\, recently nominated for the Woman-Owned business of the year! Michelle is a passionate Internet Marketer with 15+ years of successful online marketing experience. She holds a valuable Internet Marketing Degree and travels Nationwide providing social media keynotes and in-depth training. She’s a current contributing editor to The Social Media Monthly Magazine and The Franchise Dictionary. Published author of three books in her series\, “The Social Media Magnet: Everything You Need to Know to Attract Customers Through Social Media.” \nRSVP NOW: 
URL:https://socialmediaenthusiasts.com/event/florence-ky-social-media-management-marketing-certification-boot-camp-class/
CATEGORIES:Social Media Certification
ATTACH;FMTTYPE=image/png:https://socialmediaenthusiasts.com/wp-content/uploads/2018/07/google.png
END:VEVENT
BEGIN:VEVENT
DTSTART;TZID=UTC:20180307T090000
DTEND;TZID=UTC:20180307T170000
DTSTAMP:20260419T095736
CREATED:20170427T181234Z
LAST-MODIFIED:20170427T181234Z
UID:3208-1520413200-1520442000@socialmediaenthusiasts.com
SUMMARY:ANYWHERE\, USA Virtual Social Media Management & Marketing Certification Bootcamp Training
DESCRIPTION:Attend Anywhere In the World!!\nPLEASE HURRY\, THIS WILL SELL OUT!!\nRSVP: https://www.eventbrite.com/e/virtual-live-classroom-social-media-certification-tickets-38844813884 \nUse PROMO CODE – WSP – to get $50 off your order for a limited time! \nSocial Media Boot Camp training will be from 9am to 5pm EST (with breaks) \nHere’s What to Expect in Your Social Media Bootcamp Training Program\nContent Overview\nSession #1 – Targeted Marketing Strategies 9am – 11am\nIntroduction to the Social Media Management role\, best practices\, tools and must-have resources\nLearn secret strategies to find your target audience on Twitter\, Facebook\, YouTube\, Pinterest\, LinkedIn and Google Plus\nSee how easy it is to discover Key Influencers on social media and develop strategic relationships to help grow your business\nLearn how to easily monitor Facebook and Twitter conversations with targeted keywords to find your customers\nLearn how to create Twitter leads lists and import them into the Send Social Media Management dashboard for monitoring and engagement\nClassroom Work: You will create your Targeted Marketing Profiles\nLUNCH BREAK AS NEEDED 11am – 12pm\nBREAKOUT\, Q&A WITH TEACHER\, 11:30am – 12pm\nSession #2 – Develop Your Content Marketing Strategy 12pm – 2:30pm\nIntroduction on how to develop a magnetic content marketing strategy to attract customers to your brand\nLearn how to build social media followers fast and inspire them to become Brand Advocates\nWe will review best practices and give you several great ideas you can use for your content strategy\nLearn how you can use tools like Send Social Media and Feed.ly to quickly find quality content\nYou will be provided with a Social Media Marketing Calendar template which you will use to start building your own strategy\nClassroom Work: You will create your Social Media Marketing Calendar\nBREAKOUT\, Q&A WITH TEACHER\, 2:30pm – 3pm\nSession #3 – Execute Your Content Marketing Strategy 3pm – 5pm\nIntroduction on how to use the Send Social Media Management Dashboard\nHow to add and manage your Facebook\, Twitter\, LinkedIn\, Google Plus\, Instagram\, Foursquare\, YouTube\, WordPress and Pinterest\nHow to set up your Twitter Welcome Tweets\, List\, Searches\, Retweets and AutoReplies\nHow to create an Email and SMS Mobile marketing campaign\nHow to optimize your social media posts – the best time to post\, repeat your posts\, add lead generation links\, create custom designs\, add videos & automate your RSS feed\nHow to pull reports to optimize your social media strategies\nClassroom Work: You will input your Social Media Content into the posting dashboard\nRSVP: https://www.eventbrite.com/e/virtual-live-classroom-social-media-certification-tickets-38844813884\nIn-Depth\, Industry Specific Training\nWe will review your homework and provide answers to specific questions that relate to your Industry. We will deliver in-depth training and help you understand the Social Media Tools that are right for your business. \nIndustries we specialize in for Social Media Training:\nAccountants\nAuthors/Writers\nConstruction\nEducational Facilities\nEntertainment\nFashion/Beauty/Fitness\nFinancial/Brokers/Insurance\nHealthcare\nHospitality\nLegal\nMarketers\nMusicians\nNon Profits\nReal Estate/Realtors/Home Builders\nRecruiters\nRestaurant\nRetail\nSales\nTravel
URL:https://socialmediaenthusiasts.com/event/anywhere-usa-virtual-social-media-certification-bootcamp-training-6/
CATEGORIES:Social Media Certification
ATTACH;FMTTYPE=image/png:https://socialmediaenthusiasts.com/wp-content/uploads/2017/04/upload_4_25_2017_at_9_09_00_PM-1.png
END:VEVENT
BEGIN:VEVENT
DTSTART;TZID=UTC:20171204T090000
DTEND;TZID=UTC:20171204T170000
DTSTAMP:20260419T095736
CREATED:20170427T181313Z
LAST-MODIFIED:20170427T181313Z
UID:3210-1512378000-1512406800@socialmediaenthusiasts.com
SUMMARY:ANYWHERE\, USA Virtual Social Media Certification Bootcamp Training
DESCRIPTION:
URL:https://socialmediaenthusiasts.com/event/anywhere-usa-virtual-social-media-certification-bootcamp-training-7/
CATEGORIES:Social Media Certification
ATTACH;FMTTYPE=image/png:https://socialmediaenthusiasts.com/wp-content/uploads/2017/04/upload_4_25_2017_at_9_09_00_PM-1.png
END:VEVENT
BEGIN:VEVENT
DTSTART;TZID=UTC:20171002T090000
DTEND;TZID=UTC:20171002T170000
DTSTAMP:20260419T095736
CREATED:20170427T181152Z
LAST-MODIFIED:20170427T181152Z
UID:3206-1506934800-1506963600@socialmediaenthusiasts.com
SUMMARY:ANYWHERE\, USA Virtual Social Media Certification Bootcamp Training
DESCRIPTION:
URL:https://socialmediaenthusiasts.com/event/anywhere-usa-virtual-social-media-certification-bootcamp-training-5/
CATEGORIES:Social Media Certification
ATTACH;FMTTYPE=image/png:https://socialmediaenthusiasts.com/wp-content/uploads/2017/04/upload_4_25_2017_at_9_09_00_PM-1.png
END:VEVENT
BEGIN:VEVENT
DTSTART;TZID=UTC:20170906T090000
DTEND;TZID=UTC:20170906T170000
DTSTAMP:20260419T095736
CREATED:20170427T175208Z
LAST-MODIFIED:20170427T175208Z
UID:3187-1504688400-1504717200@socialmediaenthusiasts.com
SUMMARY:NEW YORK\, NY $300 OFF Social Media Marketing Certification for NY Social Media Enthusiasts
DESCRIPTION:
URL:https://socialmediaenthusiasts.com/event/new-york-ny-300-off-social-media-marketing-certification-ny-social-media-enthusiasts/
CATEGORIES:Social Media Certification
ATTACH;FMTTYPE=image/png:https://socialmediaenthusiasts.com/wp-content/uploads/2017/04/upload_4_25_2017_at_9_09_00_PM-1.png
END:VEVENT
BEGIN:VEVENT
DTSTART;TZID=UTC:20170807T090000
DTEND;TZID=UTC:20170807T170000
DTSTAMP:20260419T095736
CREATED:20170427T181107Z
LAST-MODIFIED:20170427T181107Z
UID:3204-1502096400-1502125200@socialmediaenthusiasts.com
SUMMARY:ANYWHERE\, USA Virtual Social Media Certification Bootcamp Training
DESCRIPTION:
URL:https://socialmediaenthusiasts.com/event/anywhere-usa-virtual-social-media-certification-bootcamp-training-4/
CATEGORIES:Social Media Certification
ATTACH;FMTTYPE=image/png:https://socialmediaenthusiasts.com/wp-content/uploads/2017/04/upload_4_25_2017_at_9_09_00_PM-1.png
END:VEVENT
BEGIN:VEVENT
DTSTART;TZID=UTC:20170703T090000
DTEND;TZID=UTC:20170703T170000
DTSTAMP:20260419T095736
CREATED:20170427T181027Z
LAST-MODIFIED:20170427T181027Z
UID:3202-1499072400-1499101200@socialmediaenthusiasts.com
SUMMARY:ANYWHERE\, USA Virtual Social Media Management & Marketing Certification Bootcamp Training
DESCRIPTION:
URL:https://socialmediaenthusiasts.com/event/anywhere-usa-virtual-social-media-certification-bootcamp-training-3/
CATEGORIES:Social Media Certification
ATTACH;FMTTYPE=image/png:https://socialmediaenthusiasts.com/wp-content/uploads/2017/04/upload_4_25_2017_at_9_09_00_PM-1.png
END:VEVENT
BEGIN:VEVENT
DTSTART;TZID=UTC:20170614T090000
DTEND;TZID=UTC:20170614T170000
DTSTAMP:20260419T095736
CREATED:20170427T174054Z
LAST-MODIFIED:20170427T174054Z
UID:3178-1497430800-1497459600@socialmediaenthusiasts.com
SUMMARY:LAS VEGAS\, NV $300 OFF Social Media Management And Marketing Certification Program
DESCRIPTION:
URL:https://socialmediaenthusiasts.com/event/las-vegas-nv-300-off-social-media-management-marketing-certification-program/
CATEGORIES:Social Media Certification
ATTACH;FMTTYPE=image/png:https://socialmediaenthusiasts.com/wp-content/uploads/2017/04/upload_4_25_2017_at_9_09_00_PM-1.png
END:VEVENT
BEGIN:VEVENT
DTSTART;TZID=UTC:20170501T090000
DTEND;TZID=UTC:20170501T170000
DTSTAMP:20260419T095736
CREATED:20170427T180906Z
LAST-MODIFIED:20170427T180906Z
UID:3198-1493629200-1493658000@socialmediaenthusiasts.com
SUMMARY:ANYWHERE\, USA Virtual Social Media Management & Marketing Certification Bootcamp Training
DESCRIPTION:
URL:https://socialmediaenthusiasts.com/event/anywhere-usa-virtual-social-media-certification-bootcamp-training/
CATEGORIES:Social Media Certification
ATTACH;FMTTYPE=image/png:https://socialmediaenthusiasts.com/wp-content/uploads/2017/04/upload_4_25_2017_at_9_09_00_PM-1.png
END:VEVENT
BEGIN:VEVENT
DTSTART;TZID=UTC:20170427T090000
DTEND;TZID=UTC:20170427T170000
DTSTAMP:20260419T095736
CREATED:20170427T180351Z
LAST-MODIFIED:20170427T180351Z
UID:3194-1493283600-1493312400@socialmediaenthusiasts.com
SUMMARY:CINCINNATI\, OH Social Media Management and Marketing Certification
DESCRIPTION:
URL:https://socialmediaenthusiasts.com/event/cincinnati-oh-social-media-marketing-certification/
CATEGORIES:Social Media Certification
ATTACH;FMTTYPE=image/png:https://socialmediaenthusiasts.com/wp-content/uploads/2017/04/upload_4_25_2017_at_9_09_00_PM-1.png
END:VEVENT
END:VCALENDAR