BEGIN:VCALENDAR
VERSION:2.0
PRODID:-//Social Media Enthusiasts - ECPv6.15.17.1//NONSGML v1.0//EN
CALSCALE:GREGORIAN
METHOD:PUBLISH
X-WR-CALNAME:Social Media Enthusiasts
X-ORIGINAL-URL:https://socialmediaenthusiasts.com
X-WR-CALDESC:Events for Social Media Enthusiasts
REFRESH-INTERVAL;VALUE=DURATION:PT1H
X-Robots-Tag:noindex
X-PUBLISHED-TTL:PT1H
BEGIN:VTIMEZONE
TZID:UTC
BEGIN:STANDARD
TZOFFSETFROM:+0000
TZOFFSETTO:+0000
TZNAME:UTC
DTSTART:20150101T000000
END:STANDARD
END:VTIMEZONE
BEGIN:VEVENT
DTSTART;TZID=UTC:20160908T090000
DTEND;TZID=UTC:20160908T170000
DTSTAMP:20260419T095718
CREATED:20160831T212320Z
LAST-MODIFIED:20160831T212320Z
UID:2781-1473325200-1473354000@socialmediaenthusiasts.com
SUMMARY:Virtual Social Media Bootcamp Certification Training ANYWHERE\, USA
DESCRIPTION:
URL:https://socialmediaenthusiasts.com/event/virtual-social-media-bootcamp-certification-training-anywhere-usa-4/
CATEGORIES:Online Training Events
ATTACH;FMTTYPE=image/jpeg:https://socialmediaenthusiasts.com/wp-content/uploads/2016/06/BEST-WMU.jpg
ORGANIZER;CN="Michelle Hummel":MAILTO:info@michelleshummel.com
END:VEVENT
BEGIN:VEVENT
DTSTART;TZID=UTC:20160901T090000
DTEND;TZID=UTC:20160901T170000
DTSTAMP:20260419T095718
CREATED:20160609T214546Z
LAST-MODIFIED:20160609T214546Z
UID:2522-1472720400-1472749200@socialmediaenthusiasts.com
SUMMARY:Virtual Social Media Bootcamp Certification Training ANYWHERE\, USA
DESCRIPTION:EXCLUSIVE OFFER: VIRTUAL SOCIAL MEDIA BOOTCAMP TRAINING! \nInstructor Led\, Hands-On Training: Social Media Certification\nOnly $499 for the first 10 signups! $999 per person thereafter\nPLEASE HURRY\, THIS WILL SELL OUT!! \nSocial Media Bootcamp training will be from 9am to 5pm EST (with breaks)\n \nHere’s What to Expect in Your Social Media Bootcamp Training Program\nContent Overview\nSession #1 – Targeted Marketing Strategies\, 2 hours\, 9am – 11am\n\nIntroduction to the Social Media Management role\, best practices\, tools and must-have resources\nLearn secret strategies to find your target audience on Twitter\, Facebook\, YouTube\, Pinterest\, LinkedIn and Google Plus\nSee how easy it is to discover Key Influencers on social media and develop strategic relationships to help grow your business\nLearn how to easily monitor Facebook and Twitter conversations with targeted keywords to find your customers\nLearn how to create Twitter leads lists and import them into the Send Social Media Management dashboard for monitoring and engagement\nIn Classroom Work: You will create your Targeted Marketing Profiles\n\nLUNCH BREAK AS NEEDED 11am – 12pm\nQ&A WITH TEACHER\, 11:30am – 12pm\nSession #2 – Develop Your Content Marketing Strategy\, 2 1/2 hours\, 12pm – 2:30pm\n\nIntroduction on how to develop a magnetic content marketing strategy to attract customers to your brand\nLearn how to build social media followers fast and inspire them to become Brand Advocates\nWe will review best practices and give you several great ideas you can use for your content strategy\nLearn how you can use tools like Send Social Media and Feed.ly to quickly find quality content\nYou will be provided with a Social Media Marketing Calendar template which you will use to start building your own strategy\nIn Classroom Work: You will create your Social Media Marketing Calendar\n\nBREAKOUT\, Q&A WITH TEACHER\, 2:30pm – 3pm\nSession #3 – Execute Your Content Marketing Strategy\, 2 hours\, 3pm – 5pm\n\nIntroduction on how to use the Send Social Media Management Dashboard\nHow to add and manage your Facebook\, Twitter\, LinkedIn\, Google Plus\, Instagram\, Foursquare\, YouTube\, WordPress and Pinterest\nHow to setup your Twitter Welcome Tweets\, List\, Searches\, Retweets and AutoReplies\nHow to create an Email and SMS Mobile marketing campaign\nHow to optimize your social media posts – best time to post\, repeat your posts\, add lead generation links\, create custom designs\, add videos & automate your RSS feed\nHow to pull reports to optimize your social media strategiesa Management Dashboard\nIn Classroom Work: You will input your Social Media Content into the posting dashboard\n\nIn-Depth\, Industry Specific Training\nWe will provide answers to specific questions that relate to your Industry. We will deliver in-depth training on Case Studies and Social Media Tools that are right for your business. \nHow Social Media Certification Can Give You An Edge in the Job Market from Web Media University\nJust a Few Industries we specialize in for Hands-On Training:\nAccountants\nAuthors/Writers\nConstruction\nEducational Facilities\nEntertainment\nFashion/Beauty/Fitness\nFinancial/Brokers/Insurance\nHealthcare\nHospitality\nLegal\nMarketers/Agency\nMusicians\nNon Profits\nReal Estate/Realtors/Home Builders\nRecruiters\nRestaurant\nRetail\nSales\nTravel
URL:https://socialmediaenthusiasts.com/event/live-online-social-media-bootcamp-certification-training-3/
CATEGORIES:Online Training Events
ATTACH;FMTTYPE=image/jpeg:https://socialmediaenthusiasts.com/wp-content/uploads/2016/06/BEST-WMU.jpg
END:VEVENT
BEGIN:VEVENT
DTSTART;TZID=UTC:20160901T090000
DTEND;TZID=UTC:20160901T170000
DTSTAMP:20260419T095718
CREATED:20160609T214546Z
LAST-MODIFIED:20160609T214546Z
UID:2895-1472720400-1472749200@socialmediaenthusiasts.com
SUMMARY:Virtual Social Media Bootcamp Certification Training ANYWHERE\, USA
DESCRIPTION:EXCLUSIVE OFFER: VIRTUAL SOCIAL MEDIA BOOTCAMP TRAINING! \nInstructor Led\, Hands-On Training: Social Media Certification\nOnly $499 for the first 10 signups! $999 per person thereafter\nPLEASE HURRY\, THIS WILL SELL OUT!! \nSocial Media Bootcamp training will be from 9am to 5pm EST (with breaks)\n \nHere’s What to Expect in Your Social Media Bootcamp Training Program\nContent Overview\nSession #1 – Targeted Marketing Strategies\, 2 hours\, 9am – 11am\n\nIntroduction to the Social Media Management role\, best practices\, tools and must-have resources\nLearn secret strategies to find your target audience on Twitter\, Facebook\, YouTube\, Pinterest\, LinkedIn and Google Plus\nSee how easy it is to discover Key Influencers on social media and develop strategic relationships to help grow your business\nLearn how to easily monitor Facebook and Twitter conversations with targeted keywords to find your customers\nLearn how to create Twitter leads lists and import them into the Send Social Media Management dashboard for monitoring and engagement\nIn Classroom Work: You will create your Targeted Marketing Profiles\n\nLUNCH BREAK AS NEEDED 11am – 12pm\nQ&A WITH TEACHER\, 11:30am – 12pm\nSession #2 – Develop Your Content Marketing Strategy\, 2 1/2 hours\, 12pm – 2:30pm\n\nIntroduction on how to develop a magnetic content marketing strategy to attract customers to your brand\nLearn how to build social media followers fast and inspire them to become Brand Advocates\nWe will review best practices and give you several great ideas you can use for your content strategy\nLearn how you can use tools like Send Social Media and Feed.ly to quickly find quality content\nYou will be provided with a Social Media Marketing Calendar template which you will use to start building your own strategy\nIn Classroom Work: You will create your Social Media Marketing Calendar\n\nBREAKOUT\, Q&A WITH TEACHER\, 2:30pm – 3pm\nSession #3 – Execute Your Content Marketing Strategy\, 2 hours\, 3pm – 5pm\n\nIntroduction on how to use the Send Social Media Management Dashboard\nHow to add and manage your Facebook\, Twitter\, LinkedIn\, Google Plus\, Instagram\, Foursquare\, YouTube\, WordPress and Pinterest\nHow to setup your Twitter Welcome Tweets\, List\, Searches\, Retweets and AutoReplies\nHow to create an Email and SMS Mobile marketing campaign\nHow to optimize your social media posts – best time to post\, repeat your posts\, add lead generation links\, create custom designs\, add videos & automate your RSS feed\nHow to pull reports to optimize your social media strategiesa Management Dashboard\nIn Classroom Work: You will input your Social Media Content into the posting dashboard\n\nIn-Depth\, Industry Specific Training\nWe will provide answers to specific questions that relate to your Industry. We will deliver in-depth training on Case Studies and Social Media Tools that are right for your business. \nHow Social Media Certification Can Give You An Edge in the Job Market from Web Media University\nJust a Few Industries we specialize in for Hands-On Training:\nAccountants\nAuthors/Writers\nConstruction\nEducational Facilities\nEntertainment\nFashion/Beauty/Fitness\nFinancial/Brokers/Insurance\nHealthcare\nHospitality\nLegal\nMarketers/Agency\nMusicians\nNon Profits\nReal Estate/Realtors/Home Builders\nRecruiters\nRestaurant\nRetail\nSales\nTravel
URL:https://socialmediaenthusiasts.com/event/live-online-social-media-bootcamp-certification-training-3-2/
CATEGORIES:Online Training Events
ATTACH;FMTTYPE=image/jpeg:https://socialmediaenthusiasts.com/wp-content/uploads/2016/06/BEST-WMU.jpg
END:VEVENT
BEGIN:VEVENT
DTSTART;TZID=UTC:20160804T090000
DTEND;TZID=UTC:20160804T170000
DTSTAMP:20260419T095718
CREATED:20160609T214511Z
LAST-MODIFIED:20160609T214511Z
UID:2894-1470301200-1470330000@socialmediaenthusiasts.com
SUMMARY:Live Online Social Media Bootcamp Certification Training ANYWHERE\, USA
DESCRIPTION:
URL:https://socialmediaenthusiasts.com/event/live-online-social-media-bootcamp-certification-training-2-2/
CATEGORIES:Online Training Events
ATTACH;FMTTYPE=image/jpeg:https://socialmediaenthusiasts.com/wp-content/uploads/2016/06/WMU-Seal.jpg
END:VEVENT
BEGIN:VEVENT
DTSTART;TZID=UTC:20160804T090000
DTEND;TZID=UTC:20160804T170000
DTSTAMP:20260419T095718
CREATED:20160609T214511Z
LAST-MODIFIED:20160609T214511Z
UID:2521-1470301200-1470330000@socialmediaenthusiasts.com
SUMMARY:Live Online Social Media Bootcamp Certification Training ANYWHERE\, USA
DESCRIPTION:
URL:https://socialmediaenthusiasts.com/event/live-online-social-media-bootcamp-certification-training-2/
CATEGORIES:Online Training Events
ATTACH;FMTTYPE=image/jpeg:https://socialmediaenthusiasts.com/wp-content/uploads/2016/06/WMU-Seal.jpg
END:VEVENT
BEGIN:VEVENT
DTSTART;TZID=UTC:20160707T090000
DTEND;TZID=UTC:20160707T170000
DTSTAMP:20260419T095718
CREATED:20160609T214239Z
LAST-MODIFIED:20160609T214239Z
UID:2893-1467882000-1467910800@socialmediaenthusiasts.com
SUMMARY:Live Online Social Media Bootcamp Certification Training
DESCRIPTION:
URL:https://socialmediaenthusiasts.com/event/live-online-social-media-bootcamp-certification-training-6/
CATEGORIES:Online Training Events
ATTACH;FMTTYPE=image/jpeg:https://socialmediaenthusiasts.com/wp-content/uploads/2016/06/WMU-Seal.jpg
END:VEVENT
BEGIN:VEVENT
DTSTART;TZID=UTC:20160707T090000
DTEND;TZID=UTC:20160707T170000
DTSTAMP:20260419T095718
CREATED:20160609T214239Z
LAST-MODIFIED:20160609T214239Z
UID:2519-1467882000-1467910800@socialmediaenthusiasts.com
SUMMARY:Live Online Social Media Bootcamp Certification Training
DESCRIPTION:
URL:https://socialmediaenthusiasts.com/event/live-online-social-media-bootcamp-certification-training/
CATEGORIES:Online Training Events
ATTACH;FMTTYPE=image/jpeg:https://socialmediaenthusiasts.com/wp-content/uploads/2016/06/WMU-Seal.jpg
END:VEVENT
END:VCALENDAR