BEGIN:VCALENDAR
VERSION:2.0
PRODID:-//Social Media Enthusiasts - ECPv6.15.17.1//NONSGML v1.0//EN
CALSCALE:GREGORIAN
METHOD:PUBLISH
X-ORIGINAL-URL:https://socialmediaenthusiasts.com
X-WR-CALDESC:Events for Social Media Enthusiasts
REFRESH-INTERVAL;VALUE=DURATION:PT1H
X-Robots-Tag:noindex
X-PUBLISHED-TTL:PT1H
BEGIN:VTIMEZONE
TZID:UTC
BEGIN:STANDARD
TZOFFSETFROM:+0000
TZOFFSETTO:+0000
TZNAME:UTC
DTSTART:20190101T000000
END:STANDARD
END:VTIMEZONE
BEGIN:VEVENT
DTSTART;VALUE=DATE:20200514
DTEND;VALUE=DATE:20200515
DTSTAMP:20260419T095504
CREATED:20200211T213742Z
LAST-MODIFIED:20200211T213742Z
UID:4222-1589414400-1589500799@socialmediaenthusiasts.com
SUMMARY:LONDON\, UK MMA Impact London
DESCRIPTION:
URL:https://socialmediaenthusiasts.com/event/mma-impact-london/
CATEGORIES:Mobile
END:VEVENT
BEGIN:VEVENT
DTSTART;VALUE=DATE:20200506
DTEND;VALUE=DATE:20200508
DTSTAMP:20260419T095504
CREATED:20200211T204851Z
LAST-MODIFIED:20200211T204851Z
UID:4169-1588723200-1588895999@socialmediaenthusiasts.com
SUMMARY:LAS VEGAS\, NV MAU 2020
DESCRIPTION:
URL:https://socialmediaenthusiasts.com/event/mau-2020/
CATEGORIES:Mobile
END:VEVENT
BEGIN:VEVENT
DTSTART;VALUE=DATE:20200402
DTEND;VALUE=DATE:20200403
DTSTAMP:20260419T095504
CREATED:20200210T211617Z
LAST-MODIFIED:20200210T211617Z
UID:4043-1585785600-1585871999@socialmediaenthusiasts.com
SUMMARY:LONDON\, UK App Promotion Summit London
DESCRIPTION:
URL:https://socialmediaenthusiasts.com/event/app-promotion-summit-london/
CATEGORIES:Mobile
END:VEVENT
END:VCALENDAR