BEGIN:VCALENDAR
VERSION:2.0
PRODID:-//Social Media Enthusiasts - ECPv6.15.17.1//NONSGML v1.0//EN
CALSCALE:GREGORIAN
METHOD:PUBLISH
X-WR-CALNAME:Social Media Enthusiasts
X-ORIGINAL-URL:https://socialmediaenthusiasts.com
X-WR-CALDESC:Events for Social Media Enthusiasts
REFRESH-INTERVAL;VALUE=DURATION:PT1H
X-Robots-Tag:noindex
X-PUBLISHED-TTL:PT1H
BEGIN:VTIMEZONE
TZID:UTC
BEGIN:STANDARD
TZOFFSETFROM:+0000
TZOFFSETTO:+0000
TZNAME:UTC
DTSTART:20190101T000000
END:STANDARD
END:VTIMEZONE
BEGIN:VEVENT
DTSTART;VALUE=DATE:20201020
DTEND;VALUE=DATE:20201022
DTSTAMP:20260419T095449
CREATED:20200214T174426Z
LAST-MODIFIED:20200214T174426Z
UID:4629-1603152000-1603324799@socialmediaenthusiasts.com
SUMMARY:LONDON\, UK Email Innovations Summit: London
DESCRIPTION:
URL:https://socialmediaenthusiasts.com/event/email-innovations-summit-london/
CATEGORIES:Email
END:VEVENT
BEGIN:VEVENT
DTSTART;VALUE=DATE:20200601
DTEND;VALUE=DATE:20200604
DTSTAMP:20260419T095449
CREATED:20200212T143716Z
LAST-MODIFIED:20200212T143716Z
UID:4278-1590969600-1591228799@socialmediaenthusiasts.com
SUMMARY:LAS VEGAS\, NV Email Innovations Summit Las Vegas
DESCRIPTION:
URL:https://socialmediaenthusiasts.com/event/email-innovations-summit-las-vegas/
CATEGORIES:Email
END:VEVENT
BEGIN:VEVENT
DTSTART;VALUE=DATE:20200430
DTEND;VALUE=DATE:20200501
DTSTAMP:20260419T095449
CREATED:20200211T203551Z
LAST-MODIFIED:20200211T203551Z
UID:4150-1588204800-1588291199@socialmediaenthusiasts.com
SUMMARY:ATLANTA\, GA EiQ: The Intelligent Email Gathering
DESCRIPTION:
URL:https://socialmediaenthusiasts.com/event/eiq-intelligent-email-gathering/
CATEGORIES:Email
END:VEVENT
BEGIN:VEVENT
DTSTART;VALUE=DATE:20200414
DTEND;VALUE=DATE:20200416
DTSTAMP:20260419T095449
CREATED:20200210T215132Z
LAST-MODIFIED:20200210T215132Z
UID:4077-1586822400-1586995199@socialmediaenthusiasts.com
SUMMARY:NASHVILLE\, TN 2020 ANA Email Revolution Conference
DESCRIPTION:
URL:https://socialmediaenthusiasts.com/event/2020-ana-email-revolution-conference/
CATEGORIES:Email
END:VEVENT
BEGIN:VEVENT
DTSTART;VALUE=DATE:20200405
DTEND;VALUE=DATE:20200409
DTSTAMP:20260419T095449
CREATED:20200210T213953Z
LAST-MODIFIED:20200210T213953Z
UID:4058-1586044800-1586390399@socialmediaenthusiasts.com
SUMMARY:AMELIA ISLAND\, FL MediaPost’s Email Insider Summit
DESCRIPTION:
URL:https://socialmediaenthusiasts.com/event/mediaposts-email-insider-summit/
CATEGORIES:Email
END:VEVENT
BEGIN:VEVENT
DTSTART;VALUE=DATE:20200318
DTEND;VALUE=DATE:20200320
DTSTAMP:20260419T095449
CREATED:20200210T203359Z
LAST-MODIFIED:20200210T203359Z
UID:3985-1584489600-1584662399@socialmediaenthusiasts.com
SUMMARY:LONDON\, UK The Inbox Expo
DESCRIPTION:
URL:https://socialmediaenthusiasts.com/event/the-inbox-expo/
CATEGORIES:Email
END:VEVENT
END:VCALENDAR