BEGIN:VCALENDAR
VERSION:2.0
PRODID:-//Social Media Enthusiasts - ECPv6.15.17.1//NONSGML v1.0//EN
CALSCALE:GREGORIAN
METHOD:PUBLISH
X-WR-CALNAME:Social Media Enthusiasts
X-ORIGINAL-URL:https://socialmediaenthusiasts.com
X-WR-CALDESC:Events for Social Media Enthusiasts
REFRESH-INTERVAL;VALUE=DURATION:PT1H
X-Robots-Tag:noindex
X-PUBLISHED-TTL:PT1H
BEGIN:VTIMEZONE
TZID:UTC
BEGIN:STANDARD
TZOFFSETFROM:+0000
TZOFFSETTO:+0000
TZNAME:UTC
DTSTART:20240101T000000
END:STANDARD
END:VTIMEZONE
BEGIN:VTIMEZONE
TZID:America/New_York
BEGIN:DAYLIGHT
TZOFFSETFROM:-0500
TZOFFSETTO:-0400
TZNAME:EDT
DTSTART:20240310T070000
END:DAYLIGHT
BEGIN:STANDARD
TZOFFSETFROM:-0400
TZOFFSETTO:-0500
TZNAME:EST
DTSTART:20241103T060000
END:STANDARD
BEGIN:DAYLIGHT
TZOFFSETFROM:-0500
TZOFFSETTO:-0400
TZNAME:EDT
DTSTART:20250309T070000
END:DAYLIGHT
BEGIN:STANDARD
TZOFFSETFROM:-0400
TZOFFSETTO:-0500
TZNAME:EST
DTSTART:20251102T060000
END:STANDARD
BEGIN:DAYLIGHT
TZOFFSETFROM:-0500
TZOFFSETTO:-0400
TZNAME:EDT
DTSTART:20260308T070000
END:DAYLIGHT
BEGIN:STANDARD
TZOFFSETFROM:-0400
TZOFFSETTO:-0500
TZNAME:EST
DTSTART:20261101T060000
END:STANDARD
END:VTIMEZONE
BEGIN:VEVENT
DTSTART;TZID=UTC:20251104T100000
DTEND;TZID=UTC:20251104T120000
DTSTAMP:20260419T095439
CREATED:20250929T193013Z
LAST-MODIFIED:20250929T193628Z
UID:8403-1762250400-1762257600@socialmediaenthusiasts.com
SUMMARY:Network and Learn Workshop: Turn Posts Into Profits with AI
DESCRIPTION:Details:\n\n\nMarketing can feel overwhelming — social media posts\, funnels\, emails… and now AI! But here’s the truth: AI is only half the solution. \nIn this fun\, interactive workshop\, you’ll learn how to blend AI shortcuts with the human strategies that actually build trust and bring in clients. \nWhat to Expect: \nAI hacks to speed up your content creation.\nPsychology tips that make your posts stand out.\nA simple roadmap to turn strangers into clients.\nA workbook you’ll fill out to walk away with your own action plan. \nThis isn’t a boring lecture — we’ll create\, practice\, and receive live feedback. Plus\, you’ll meet other awesome entrepreneurs and business owners. \nExclusive Bonuses: \nEvery attendee will also receive:\nA printed Social Media Mastery Workbook to fill out during the event\nA curated list of AI + social media tools for fast implementation\nOne free month of Send Social Media posting tool (up to $59 value) \nRefreshments & Networking: \nWe’ll provide coffee\, tea\, water\, and light snacks (including fruit\, granola bars\, and pastries).\nLight refreshments provided. An optional networking lunch will be held nearby afterward for those who wish to continue connecting. \nTicket Options: \nExclusive Member Discount for Social Media Enthusiasts: Only $129\, Normally $199. Limited to 20 seats to keep the workshop hands-on and interactive. Reserve yours now before it sells out! \nDetails: \nDate & Time: Tues\, Nov 4th 10:00 AM – 12:00 PM\nVenue: The 5TH Floor\, 3801 Avalon Park East Boulevard\, Suite 200\, Orlando\, FL 32828\nDuration: 2 hours (includes Q&A and networking time) \nBring your notebook\, laptop\, and social media goals—and leave with clarity\, confidence\, and a whole month of content mapped out. \nSecure your seat today before they’re gone!
URL:https://socialmediaenthusiasts.com/event/network-and-learn-workshop-turn-posts-into-profits-with-ai-2/
LOCATION:The 5TH Floor\, 3801 Avalon Park East Boulevard\, Suite 200\, Orlando\, FL 32828
CATEGORIES:Conferences
ATTACH;FMTTYPE=image/png:https://socialmediaenthusiasts.com/wp-content/uploads/2025/09/Orlando-SME-1.png
END:VEVENT
BEGIN:VEVENT
DTSTART;TZID=UTC:20251023T100000
DTEND;TZID=UTC:20251023T120000
DTSTAMP:20260419T095439
CREATED:20250929T185359Z
LAST-MODIFIED:20250929T192855Z
UID:8397-1761213600-1761220800@socialmediaenthusiasts.com
SUMMARY:Network and Learn Workshop: Turn Posts Into Profits with AI
DESCRIPTION:Details:\n\n\nSocial Media Mastery Workshop \nTurn Posts Into Profits with AI + Proven Strategies \nThe 5TH Floor\, 3801 Avalon Park East Boulevard\, Suite 200\, Orlando\, FL 32828\nThursday\, October 23rd\n10:00 AM – 12:00 PM Limited to 20 Seats Only \nAbout the Workshop: \nStep away from your daily routine and dedicate one powerful morning to transforming your business through social media.\nIn this exclusive 2-hour intensive\, you’ll learn the latest strategies and AI-powered tools to grow your brand\, attract more clients\, and save hours each week. You’ll leave with a complete 30-Day Social Media Action Plan designed specifically for your business. \nWhat You’ll Learn: \nHow to create viral\, shareable content that gets results\nInstagram\, TikTok & LinkedIn hacks to boost visibility\nAI-powered shortcuts for fast\, professional content creation\nHow to build a social media funnel that turns followers into clients\nSecrets to maximize engagement & reach with algorithms\nWalk away with your personalized 30-Day Action Plan \nExclusive Bonuses: \nEvery attendee will also receive:\nA printed Social Media Mastery Workbook to fill out during the event\nA curated list of AI + social media tools for fast implementation\nOne free month of Send Social Media posting tool (up to $59 value) \nRefreshments & Networking: \nWe’ll provide coffee\, tea\, water\, and light snacks (including fruit\, granola bars\, and pastries).\nLight refreshments provided. Optional networking lunch afterward\, nearby\, for those who want to continue connecting. \nTicket Options: \nExclusive Member Discount for Social Media Enthusiasts: Only $129\, Normally $199. Limited to 20 seats to keep the workshop hands-on and interactive. Reserve yours now before it sells out! \nDetails: \nDate & Time: Thursday\, October 23rd | 10:00 AM – 12:00 PM\nVenue: The 5TH Floor\, 3801 Avalon Park East Boulevard\, Suite 200\, Orlando\, FL 32828\nDuration: 2 hours (includes Q&A) \nBring your notebook\, laptop\, and social media goals—and leave with clarity\, confidence\, and a whole month of content mapped out. \nSecure your seat today before they’re gone! 
URL:https://socialmediaenthusiasts.com/event/network-and-learn-workshop-turn-posts-into-profits-with-ai/
LOCATION:The 5TH Floor\, 3801 Avalon Park East Boulevard\, Suite 200\, Orlando\, FL 32828
CATEGORIES:Conferences
ATTACH;FMTTYPE=image/png:https://socialmediaenthusiasts.com/wp-content/uploads/2025/09/Orlando-SME-1.png
END:VEVENT
BEGIN:VEVENT
DTSTART;TZID=America/New_York:20251015T100000
DTEND;TZID=America/New_York:20251015T170000
DTSTAMP:20260419T095439
CREATED:20250718T144313Z
LAST-MODIFIED:20250718T162958Z
UID:8271-1760522400-1760547600@socialmediaenthusiasts.com
SUMMARY:B2B Marketing Expo Las Vegas 2025
DESCRIPTION:If you’re in B2B marketing\, you know the landscape moves fast—and finding the right strategies\, tools\, and connections can be both costly and time-consuming. The B2B Marketing Expo Las Vegas is designed to change that. This two-day\, free-to-attend event brings together the sharpest minds in marketing\, offering real\, actionable insights to help you stay ahead. Hear from marketing leaders and innovators behind some of the world’s most successful campaigns and brands\, some with audience numbers in the millions. Join speaking sessions that go deep into what actually works—whether it’s lead generation\, automation\, content strategy\, or data-driven growth. Explore the platforms\, partners\, and solutions that are transforming how B2B marketers work. If you’re serious about driving results in your marketing efforts and creating impact and interest\, this is the show to attend. Join us on October 15-16 at Las Vegas Convention Center. \n Register for your FREE TICKET here:  \n https://eventdata.uk/Forms/Form.aspx?FormRef=BSVA5Visitor&TrackingCode=PARTNERsocialmediaenthusiasts
URL:https://socialmediaenthusiasts.com/event/b2b-marketing-expo-las-vegas/
LOCATION:Las Vegas Convention Center\, 3150 Paradise Rd Las Vegas\, NV 89109\, Las Vegas\, NV\, 89109\, United States
CATEGORIES:Conferences
ATTACH;FMTTYPE=image/png:https://socialmediaenthusiasts.com/wp-content/uploads/2025/07/B2B_LV_Generic_Banner_Template-copy-02-2-scaled.png
END:VEVENT
END:VCALENDAR