BEGIN:VCALENDAR
VERSION:2.0
PRODID:-//Social Media Enthusiasts - ECPv6.15.17.1//NONSGML v1.0//EN
CALSCALE:GREGORIAN
METHOD:PUBLISH
X-WR-CALNAME:Social Media Enthusiasts
X-ORIGINAL-URL:https://socialmediaenthusiasts.com
X-WR-CALDESC:Events for Social Media Enthusiasts
REFRESH-INTERVAL;VALUE=DURATION:PT1H
X-Robots-Tag:noindex
X-PUBLISHED-TTL:PT1H
BEGIN:VTIMEZONE
TZID:UTC
BEGIN:STANDARD
TZOFFSETFROM:+0000
TZOFFSETTO:+0000
TZNAME:UTC
DTSTART:20190101T000000
END:STANDARD
END:VTIMEZONE
BEGIN:VEVENT
DTSTART;VALUE=DATE:20201027
DTEND;VALUE=DATE:20201029
DTSTAMP:20260419T095424
CREATED:20200214T192235Z
LAST-MODIFIED:20200214T192235Z
UID:4666-1603756800-1603929599@socialmediaenthusiasts.com
SUMMARY:LONDON\, UK PI Live: London
DESCRIPTION:
URL:https://socialmediaenthusiasts.com/event/pi-live-london/
CATEGORIES:Affiliate
END:VEVENT
BEGIN:VEVENT
DTSTART;VALUE=DATE:20200917
DTEND;VALUE=DATE:20200919
DTSTAMP:20260419T095424
CREATED:20200214T164700Z
LAST-MODIFIED:20200214T164700Z
UID:4519-1600300800-1600473599@socialmediaenthusiasts.com
SUMMARY:GRUGRAM\, INDIA India Affiliate Summit
DESCRIPTION:
URL:https://socialmediaenthusiasts.com/event/india-affiliate-summit/
CATEGORIES:Affiliate
END:VEVENT
BEGIN:VEVENT
DTSTART;VALUE=DATE:20200708
DTEND;VALUE=DATE:20200710
DTSTAMP:20260419T095424
CREATED:20200212T210841Z
LAST-MODIFIED:20200212T210841Z
UID:4406-1594166400-1594339199@socialmediaenthusiasts.com
SUMMARY:BARCELONA\, SPAIN Affiliate World Europe
DESCRIPTION:
URL:https://socialmediaenthusiasts.com/event/affiliate-world-europe/
CATEGORIES:Affiliate
END:VEVENT
BEGIN:VEVENT
DTSTART;VALUE=DATE:20200603
DTEND;VALUE=DATE:20200605
DTSTAMP:20260419T095424
CREATED:20200212T144329Z
LAST-MODIFIED:20200212T144329Z
UID:4293-1591142400-1591315199@socialmediaenthusiasts.com
SUMMARY:AMSTERDAM\, NETHERLANDS Affiliate Summit Europe
DESCRIPTION:
URL:https://socialmediaenthusiasts.com/event/affiliate-summit-europe/
CATEGORIES:Affiliate
END:VEVENT
BEGIN:VEVENT
DTSTART;VALUE=DATE:20200519
DTEND;VALUE=DATE:20200520
DTSTAMP:20260419T095424
CREATED:20200211T214456Z
LAST-MODIFIED:20200211T214456Z
UID:4240-1589846400-1589932799@socialmediaenthusiasts.com
SUMMARY:NEW YORK\, NY PI LIVE Advanced
DESCRIPTION:
URL:https://socialmediaenthusiasts.com/event/pi-live-advanced/
CATEGORIES:Affiliate
END:VEVENT
BEGIN:VEVENT
DTSTART;VALUE=DATE:20200205
DTEND;VALUE=DATE:20200209
DTSTAMP:20260419T095424
CREATED:20200210T190735Z
LAST-MODIFIED:20200210T190735Z
UID:3863-1580860800-1581206399@socialmediaenthusiasts.com
SUMMARY:LONDON\, UK London Affiliate Conference
DESCRIPTION:
URL:https://socialmediaenthusiasts.com/event/london-affiliate-conference/
CATEGORIES:Affiliate
END:VEVENT
END:VCALENDAR