BEGIN:VCALENDAR
VERSION:2.0
PRODID:-//Social Media Enthusiasts - ECPv6.15.17.1//NONSGML v1.0//EN
CALSCALE:GREGORIAN
METHOD:PUBLISH
X-ORIGINAL-URL:https://socialmediaenthusiasts.com
X-WR-CALDESC:Events for Social Media Enthusiasts
REFRESH-INTERVAL;VALUE=DURATION:PT1H
X-Robots-Tag:noindex
X-PUBLISHED-TTL:PT1H
BEGIN:VTIMEZONE
TZID:UTC
BEGIN:STANDARD
TZOFFSETFROM:+0000
TZOFFSETTO:+0000
TZNAME:UTC
DTSTART:20240101T000000
END:STANDARD
END:VTIMEZONE
BEGIN:VEVENT
DTSTART;TZID=UTC:20251215T190000
DTEND;TZID=UTC:20251215T200000
DTSTAMP:20260417T074039
CREATED:20251017T232323Z
LAST-MODIFIED:20251021T185336Z
UID:8548-1765825200-1765828800@socialmediaenthusiasts.com
SUMMARY:🤝 December Networking Mixer: Year-End Celebration & Connection Night
DESCRIPTION:🤝 DECEMBER NETWORKING EVENT: Year-End Celebration & Connection Night\nTheme: Reflect\, Celebrate & ConnectDate: Dec 15th\, 7-8pmWhere: You must RSVP via ZoomCost: Free for Founding Members \n🎉 About This Event\nLet’s end the year together — celebrating new friendships\, growth\, and the amazing energy of our Social Media Enthusiasts community! \nThis fun and relaxed event includes:🥂 Community Toast & Celebration🌟 Member Recognition Awards💬 “Share Your Shine” Breakout Chats — tell us your biggest win of 2025! \nIt’s the perfect way to close the year with gratitude\, inspiration\, and connection. \n👉 RSVP Here
URL:https://socialmediaenthusiasts.com/event/%f0%9f%a4%9d-december-networking-mixer-year-end-celebration-connection-night/
CATEGORIES:Virtual Networking
ATTACH;FMTTYPE=image/avif:https://socialmediaenthusiasts.com/wp-content/uploads/2025/10/Untitled_design__60_-scaled.avif
END:VEVENT
END:VCALENDAR