BEGIN:VCALENDAR
VERSION:2.0
PRODID:-//Social Media Enthusiasts - ECPv6.15.17.1//NONSGML v1.0//EN
CALSCALE:GREGORIAN
METHOD:PUBLISH
X-ORIGINAL-URL:https://socialmediaenthusiasts.com
X-WR-CALDESC:Events for Social Media Enthusiasts
REFRESH-INTERVAL;VALUE=DURATION:PT1H
X-Robots-Tag:noindex
X-PUBLISHED-TTL:PT1H
BEGIN:VTIMEZONE
TZID:UTC
BEGIN:STANDARD
TZOFFSETFROM:+0000
TZOFFSETTO:+0000
TZNAME:UTC
DTSTART:20240101T000000
END:STANDARD
END:VTIMEZONE
BEGIN:VEVENT
DTSTART;TZID=UTC:20251117T190000
DTEND;TZID=UTC:20251117T200000
DTSTAMP:20260421T222736
CREATED:20251017T232208Z
LAST-MODIFIED:20251017T232208Z
UID:8546-1763406000-1763409600@socialmediaenthusiasts.com
SUMMARY:🍂 November Networking Mixer: Fall Connections Edition
DESCRIPTION:💬 About This Event\nThis month is all about collaboration over competition!Join this fast-paced\, fun\, and inspiring virtual event where members can pitch partnership ideas\, share resources\, and find synergy. \nIn small breakout rooms\, you’ll:🤝 Meet like-minded entrepreneurs and creators💡 Brainstorm new partnership ideas (cross-promos\, webinars\, content swaps)🎯 Leave with at least one new connection or collab plan \n🧠 Theme\n“Together\, we go further.”Collaboration multiplies visibility\, credibility\, and momentum — and this event helps you find your perfect business match! \n👉 Register for the Mixer
URL:https://socialmediaenthusiasts.com/event/%f0%9f%8d%82-november-networking-mixer-fall-connections-edition/
CATEGORIES:Virtual Networking
ATTACH;FMTTYPE=image/avif:https://socialmediaenthusiasts.com/wp-content/uploads/2025/10/Untitled_design__60_-scaled.avif
END:VEVENT
END:VCALENDAR