BEGIN:VCALENDAR
VERSION:2.0
PRODID:-//Social Media Enthusiasts - ECPv6.15.17.1//NONSGML v1.0//EN
CALSCALE:GREGORIAN
METHOD:PUBLISH
X-ORIGINAL-URL:https://socialmediaenthusiasts.com
X-WR-CALDESC:Events for Social Media Enthusiasts
REFRESH-INTERVAL;VALUE=DURATION:PT1H
X-Robots-Tag:noindex
X-PUBLISHED-TTL:PT1H
BEGIN:VTIMEZONE
TZID:UTC
BEGIN:STANDARD
TZOFFSETFROM:+0000
TZOFFSETTO:+0000
TZNAME:UTC
DTSTART:20240101T000000
END:STANDARD
END:VTIMEZONE
BEGIN:VEVENT
DTSTART;TZID=UTC:20251030T130000
DTEND;TZID=UTC:20251030T140000
DTSTAMP:20260421T080951
CREATED:20251017T231256Z
LAST-MODIFIED:20251017T231256Z
UID:8535-1761829200-1761832800@socialmediaenthusiasts.com
SUMMARY:🚀 Discover the Secret to Getting Found (and Bought) in ChatGPT
DESCRIPTION:### The Future of SEO and Online Shopping is Here – Are You Ready? \n🎟 Cost: FREE\, Register at DEMIO\n🎤 Hosted by: Michelle Hummel\, CEO of Web Media University & Web Strategy Plus \n*** \n### 💡 About This Free Training \nShopify just integrated directly with ChatGPT — and that means 700 million weekly users can now shop and buy inside conversations.\nBut here’s what most business owners don’t realize…\n👉 If your products or services aren’t visible inside ChatGPT\, you’re missing out on the biggest wave of traffic and sales since the birth of Google Search.\nIn this 60-minute interactive webinar\, you’ll learn how to make ChatGPT find\, recommend\, and promote your brand when people ask for the “best” products or services in your niche. \n*** \n### 🌟 What You’ll Learn \n✅ How the Shopify + ChatGPT integration is changing online shopping forever\n✅ The rise of AI Search Optimization (AIO) — the new SEO for the ChatGPT era\n✅ Why ChatGPT recommends some brands over others (and how to get on that list)\n✅ The 3 content formats ChatGPT loves: “Best Of\,” “Comparison\,” and “How-To”\n✅ Simple tweaks to make your website and content AI-friendly\n✅ Real examples of how brands are already earning sales through ChatGPT conversations \n*** \n### 🎁 Free Bonus for Attendees \nAll attendees will receive:\n✨ The AI Visibility Checklist — a step-by-step guide to help you start optimizing your content for ChatGPT search today. \n*** \n### 🧠 Who Should Attend \nThis webinar is perfect for: \n\nBusiness owners and e-commerce entrepreneurs\nDigital marketers and SEO professionals\nSocial media managers and content creators\nAnyone who wants to get ahead of the next big shift in online visibility\n\n*** \n### 🎓 Meet Your Host \nMichelle Hummel is the CEO of Web Media University\, Franchise Success Team\, and Web Strategy Plus — with over 15 years of experience helping businesses grow through digital marketing and emerging technologies.\nShe’s an award-winning strategist\, keynote speaker\, and educator who’s now teaching businesses how to adapt to the new world of AI-powered marketing. \n*** \n### 🚀 Don’t Get Left Behind \nAI is changing how people find\, trust\, and buy — and ChatGPT is leading the way.\nJoin this session to learn how to make sure your brand is one of the first ChatGPT recommends.\n👉 Reserve your free spot today!\n(Space is limited — save your seat now and learn how to turn AI search into sales.)
URL:https://socialmediaenthusiasts.com/event/%f0%9f%9a%80-discover-the-secret-to-getting-found-and-bought-in-chatgpt/
CATEGORIES:AI Marketing,Online Training Events,Search
ATTACH;FMTTYPE=image/png:https://socialmediaenthusiasts.com/wp-content/uploads/2025/10/Untitled-design-2.png
END:VEVENT
BEGIN:VEVENT
DTSTART;TZID=UTC:20251030T190000
DTEND;TZID=UTC:20251030T200000
DTSTAMP:20260421T080951
CREATED:20251017T232052Z
LAST-MODIFIED:20251017T232052Z
UID:8543-1761850800-1761854400@socialmediaenthusiasts.com
SUMMARY:🍁 October Networking Mixer: Fall Connections Edition
DESCRIPTION:🌟 About This Event\nLet’s wrap up the fall season with a burst of inspiration\, new connections\, and collaboration opportunities! \nJoin fellow entrepreneurs\, marketers\, coaches\, and creators from across the country for our Social Media Enthusiasts Virtual Networking Mixer — Fall Connections Edition. \nWhether you want to grow your audience\, meet potential business partners\, or simply connect with like-minded professionals who “get it\,” this is your space to shine. \n💬 What to Expect\n🤝 Interactive Networking: Meet new people in small breakout sessions💡 Conversation Starters: Fun icebreakers to help you connect easily🎯 Collaboration Time: Share what you do and what kind of partnerships you’re open to🎉 Community Spotlight: A chance to feature your business or upcoming event \n🧠 Theme of the Night\n“Building Real Connections in a Digital World.”Because behind every post\, follower\, or DM — there’s a real human connection waiting to be made. \n✨ How to Prepare\n\n\nBring your favorite beverage ☕🍷 \n\n\nHave your elevator pitch ready (30 seconds max!) \n\n\nAdd your social media links in the chat so others can follow you \n\n\n🚀 RSVP Now\nSeats are limited — reserve your spot below and get the Zoom link instantly 👇 \n💜 Keep the Conversation Going\nAfter the event\, come back to this post and share:💬 Who you connected with🎁 What collaboration ideas came up🙌 Your favorite moment or takeaway
URL:https://socialmediaenthusiasts.com/event/%f0%9f%8d%81-october-networking-mixer-fall-connections-edition/
CATEGORIES:Virtual Networking
ATTACH;FMTTYPE=image/avif:https://socialmediaenthusiasts.com/wp-content/uploads/2025/10/Untitled_design__60_-scaled.avif
END:VEVENT
END:VCALENDAR