BEGIN:VCALENDAR
VERSION:2.0
PRODID:-//Social Media Enthusiasts - ECPv6.15.17.1//NONSGML v1.0//EN
CALSCALE:GREGORIAN
METHOD:PUBLISH
X-WR-CALNAME:Social Media Enthusiasts
X-ORIGINAL-URL:https://socialmediaenthusiasts.com
X-WR-CALDESC:Events for Social Media Enthusiasts
REFRESH-INTERVAL;VALUE=DURATION:PT1H
X-Robots-Tag:noindex
X-PUBLISHED-TTL:PT1H
BEGIN:VTIMEZONE
TZID:America/New_York
BEGIN:DAYLIGHT
TZOFFSETFROM:-0500
TZOFFSETTO:-0400
TZNAME:EDT
DTSTART:20240310T070000
END:DAYLIGHT
BEGIN:STANDARD
TZOFFSETFROM:-0400
TZOFFSETTO:-0500
TZNAME:EST
DTSTART:20241103T060000
END:STANDARD
BEGIN:DAYLIGHT
TZOFFSETFROM:-0500
TZOFFSETTO:-0400
TZNAME:EDT
DTSTART:20250309T070000
END:DAYLIGHT
BEGIN:STANDARD
TZOFFSETFROM:-0400
TZOFFSETTO:-0500
TZNAME:EST
DTSTART:20251102T060000
END:STANDARD
BEGIN:DAYLIGHT
TZOFFSETFROM:-0500
TZOFFSETTO:-0400
TZNAME:EDT
DTSTART:20260308T070000
END:DAYLIGHT
BEGIN:STANDARD
TZOFFSETFROM:-0400
TZOFFSETTO:-0500
TZNAME:EST
DTSTART:20261101T060000
END:STANDARD
END:VTIMEZONE
BEGIN:VEVENT
DTSTART;TZID=America/New_York:20251015T100000
DTEND;TZID=America/New_York:20251015T170000
DTSTAMP:20260421T080928
CREATED:20250718T144313Z
LAST-MODIFIED:20250718T162958Z
UID:8271-1760522400-1760547600@socialmediaenthusiasts.com
SUMMARY:B2B Marketing Expo Las Vegas 2025
DESCRIPTION:If you’re in B2B marketing\, you know the landscape moves fast—and finding the right strategies\, tools\, and connections can be both costly and time-consuming. The B2B Marketing Expo Las Vegas is designed to change that. This two-day\, free-to-attend event brings together the sharpest minds in marketing\, offering real\, actionable insights to help you stay ahead. Hear from marketing leaders and innovators behind some of the world’s most successful campaigns and brands\, some with audience numbers in the millions. Join speaking sessions that go deep into what actually works—whether it’s lead generation\, automation\, content strategy\, or data-driven growth. Explore the platforms\, partners\, and solutions that are transforming how B2B marketers work. If you’re serious about driving results in your marketing efforts and creating impact and interest\, this is the show to attend. Join us on October 15-16 at Las Vegas Convention Center. \n Register for your FREE TICKET here:  \n https://eventdata.uk/Forms/Form.aspx?FormRef=BSVA5Visitor&TrackingCode=PARTNERsocialmediaenthusiasts
URL:https://socialmediaenthusiasts.com/event/b2b-marketing-expo-las-vegas/
LOCATION:Las Vegas Convention Center\, 3150 Paradise Rd Las Vegas\, NV 89109\, Las Vegas\, NV\, 89109\, United States
CATEGORIES:Conferences
ATTACH;FMTTYPE=image/png:https://socialmediaenthusiasts.com/wp-content/uploads/2025/07/B2B_LV_Generic_Banner_Template-copy-02-2-scaled.png
END:VEVENT
END:VCALENDAR