BEGIN:VCALENDAR
VERSION:2.0
PRODID:-//Social Media Enthusiasts - ECPv6.15.17.1//NONSGML v1.0//EN
CALSCALE:GREGORIAN
METHOD:PUBLISH
X-ORIGINAL-URL:https://socialmediaenthusiasts.com
X-WR-CALDESC:Events for Social Media Enthusiasts
REFRESH-INTERVAL;VALUE=DURATION:PT1H
X-Robots-Tag:noindex
X-PUBLISHED-TTL:PT1H
BEGIN:VTIMEZONE
TZID:UTC
BEGIN:STANDARD
TZOFFSETFROM:+0000
TZOFFSETTO:+0000
TZNAME:UTC
DTSTART:20240101T000000
END:STANDARD
END:VTIMEZONE
BEGIN:VEVENT
DTSTART;TZID=UTC:20250923T100000
DTEND;TZID=UTC:20250923T130000
DTSTAMP:20260421T053841
CREATED:20250903T145246Z
LAST-MODIFIED:20250903T155510Z
UID:8360-1758621600-1758632400@socialmediaenthusiasts.com
SUMMARY:Miami Social Media Mastery Workshop: Turn Posts Into Profits with AI
DESCRIPTION:Turn Posts Into Profits with AI + Proven Strategies\n📍 mindwarehouse\, 111 Northeast 1st Street\, 8th Floor\, Miami\, FL 33132\n📅 Tuesday\, September 23rd\n⏰ 10:00 AM – 1:00 PM\n🎟 Only 15 Seats Available \n🌴 About the Workshop \nStep away from the daily grind and spend one powerful morning working on your business\, not just in it.\nIn this exclusive 3-hour intensive\, you’ll learn the latest social media strategies and AI tools to help you grow your brand\, attract more clients\, and save time. Walk away with a clear 30-Day Social Media Action Plan designed specifically for your business. \n📚 What You’ll Learn \n✨ How to create viral\, shareable content that resonates\n✨ Instagram\, TikTok & LinkedIn hacks to boost reach\n✨ AI-powered content creation tools that save you hours each week\n✨ How to build a social media funnel that turns followers into clients\n✨ Secrets to increase engagement & visibility with algorithms\n✨ Leave with your personalized 30-Day Action Plan \n🎁 Exclusive Bonuses \nEvery attendee will also receive:\n✔ A printed Social Media Mastery Workbook to fill out during the event\n✔ A curated list of AI + social media tools for fast implementation\n✔ One free month of Send Social Media posting tool (up to $199 value)\n✔ Chance to win a 15-minute personal audit (bonus for first 3 sign-ups!) \n☕ Refreshments & Networking \nWe’ll provide coffee\, tea\, water\, and light snacks (fruit\, granola bars\, pastries). \nLight refreshments provided. Optional networking lunch afterward nearby for those who want to continue connecting. \n💲 Ticket Options \n🎟 Early Bird (First 5 seats): $147\n🎟 General Admission: $197\nOnly 15 seats available—this workshop will sell out! \n📝 Details \n📅 Date & Time: Tuesday\, September 23rd | 10:00 AM – 1:00 PM\n📍 Venue: mindwarehouse\, 111 Northeast 1st Street\, 8th Floor\, Miami\, FL 33132\n⏰ Duration: 3 hours (includes Q&A and networking time)\nBring your notebook\, laptop\, and social media goals—and leave with clarity\, confidence\, and a full month of content mapped out. \n👉 Secure your spot today before it sells out! \nADDITIONAL CO-SPEAKERS\, SPONSORS NEEDED – if you are interested in speaking\, sponsoring\, or hosting any of our events\, please get in touch with me at michelle@webstrategyplus.com
URL:https://socialmediaenthusiasts.com/event/miami-social-media-mastery-workshop-turn-posts-into-profits-with-ai/
LOCATION:mindwarehouse\, 111 Northeast 1st Street\, 8th Floor\, Miami\, FL 33132
ATTACH;FMTTYPE=image/jpeg:https://socialmediaenthusiasts.com/wp-content/uploads/2025/09/event-flyer-e1756911145418.jpg
END:VEVENT
END:VCALENDAR