BEGIN:VCALENDAR
VERSION:2.0
PRODID:-//Social Media Enthusiasts - ECPv6.15.17.1//NONSGML v1.0//EN
CALSCALE:GREGORIAN
METHOD:PUBLISH
X-ORIGINAL-URL:https://socialmediaenthusiasts.com
X-WR-CALDESC:Events for Social Media Enthusiasts
REFRESH-INTERVAL;VALUE=DURATION:PT1H
X-Robots-Tag:noindex
X-PUBLISHED-TTL:PT1H
BEGIN:VTIMEZONE
TZID:UTC
BEGIN:STANDARD
TZOFFSETFROM:+0000
TZOFFSETTO:+0000
TZNAME:UTC
DTSTART:20230101T000000
END:STANDARD
END:VTIMEZONE
BEGIN:VEVENT
DTSTART;TZID=UTC:20240717T080000
DTEND;TZID=UTC:20240719T170000
DTSTAMP:20260420T073114
CREATED:20231214T011448Z
LAST-MODIFIED:20231214T011448Z
UID:7452-1721203200-1721408400@socialmediaenthusiasts.com
SUMMARY:2024 ANA Digital & Social Media Conference
DESCRIPTION:Los Angeles\, Calif.
URL:https://socialmediaenthusiasts.com/event/2024-ana-digital-social-media-conference/
CATEGORIES:Social Media Conference
END:VEVENT
END:VCALENDAR