BEGIN:VCALENDAR
VERSION:2.0
PRODID:-//Social Media Enthusiasts - ECPv6.15.17.1//NONSGML v1.0//EN
CALSCALE:GREGORIAN
METHOD:PUBLISH
X-ORIGINAL-URL:https://socialmediaenthusiasts.com
X-WR-CALDESC:Events for Social Media Enthusiasts
REFRESH-INTERVAL;VALUE=DURATION:PT1H
X-Robots-Tag:noindex
X-PUBLISHED-TTL:PT1H
BEGIN:VTIMEZONE
TZID:UTC
BEGIN:STANDARD
TZOFFSETFROM:+0000
TZOFFSETTO:+0000
TZNAME:UTC
DTSTART:20170101T000000
END:STANDARD
END:VTIMEZONE
BEGIN:VEVENT
DTSTART;TZID=UTC:20180323T113000
DTEND;TZID=UTC:20180323T140000
DTSTAMP:20260420T031442
CREATED:20180227T205400Z
LAST-MODIFIED:20180227T205400Z
UID:3510-1521804600-1521813600@socialmediaenthusiasts.com
SUMMARY:FREE Lunch & Learn: How Personal Branding With Social Media Can Attract Leads
DESCRIPTION:
URL:https://socialmediaenthusiasts.com/event/free-lunch-learn-personal-branding-social-media-can-attract-leads/
LOCATION:CompuSuites\, 5000 Arlington Center Blvd\, Upper Arlington\, OH\, United States
CATEGORIES:Training Events
ATTACH;FMTTYPE=image/png:https://socialmediaenthusiasts.com/wp-content/uploads/2018/02/Want_To_Learn_How_Personal_Branding_With_Social_Media_Can_Help_Attract_More_Leads_To_Your_Business_.png
ORGANIZER;CN="Michelle Hummel":MAILTO:info@michelleshummel.com
END:VEVENT
END:VCALENDAR