BEGIN:VCALENDAR
VERSION:2.0
PRODID:-//Social Media Enthusiasts - ECPv6.15.17.1//NONSGML v1.0//EN
CALSCALE:GREGORIAN
METHOD:PUBLISH
X-ORIGINAL-URL:https://socialmediaenthusiasts.com
X-WR-CALDESC:Events for Social Media Enthusiasts
REFRESH-INTERVAL;VALUE=DURATION:PT1H
X-Robots-Tag:noindex
X-PUBLISHED-TTL:PT1H
BEGIN:VTIMEZONE
TZID:UTC
BEGIN:STANDARD
TZOFFSETFROM:+0000
TZOFFSETTO:+0000
TZNAME:UTC
DTSTART:20160101T000000
END:STANDARD
END:VTIMEZONE
BEGIN:VEVENT
DTSTART;TZID=UTC:20170921T113000
DTEND;TZID=UTC:20170921T130000
DTSTAMP:20260420T014511
CREATED:20170915T184930Z
LAST-MODIFIED:20170915T184930Z
UID:3356-1505993400-1505998800@socialmediaenthusiasts.com
SUMMARY:ATLANTA\, GA FREE Lunch & Learn: How To Successfully Grow Your Business With Social Media
DESCRIPTION:
URL:https://socialmediaenthusiasts.com/event/atlanta-ga-free-lunch-learn-successfully-grow-business-social-media/
CATEGORIES:Networking Events
ATTACH;FMTTYPE=image/png:https://socialmediaenthusiasts.com/wp-content/uploads/2017/04/upload_4_25_2017_at_9_09_46_PM.png
END:VEVENT
END:VCALENDAR