BEGIN:VCALENDAR
VERSION:2.0
PRODID:-//Social Media Enthusiasts - ECPv6.15.17.1//NONSGML v1.0//EN
CALSCALE:GREGORIAN
METHOD:PUBLISH
X-ORIGINAL-URL:https://socialmediaenthusiasts.com
X-WR-CALDESC:Events for Social Media Enthusiasts
REFRESH-INTERVAL;VALUE=DURATION:PT1H
X-Robots-Tag:noindex
X-PUBLISHED-TTL:PT1H
BEGIN:VTIMEZONE
TZID:UTC
BEGIN:STANDARD
TZOFFSETFROM:+0000
TZOFFSETTO:+0000
TZNAME:UTC
DTSTART:20150101T000000
END:STANDARD
END:VTIMEZONE
BEGIN:VEVENT
DTSTART;TZID=UTC:20160929T090000
DTEND;TZID=UTC:20160929T170000
DTSTAMP:20260420T185107
CREATED:20160831T212046Z
LAST-MODIFIED:20160831T212046Z
UID:2780-1475139600-1475168400@socialmediaenthusiasts.com
SUMMARY:Virtual Social Media Bootcamp Certification Training ANYWHERE\, USA
DESCRIPTION:
URL:https://socialmediaenthusiasts.com/event/virtual-social-media-bootcamp-certification-training-anywhere-usa-3/
CATEGORIES:Online Training Events
ATTACH;FMTTYPE=image/jpeg:https://socialmediaenthusiasts.com/wp-content/uploads/2016/06/BEST-WMU.jpg
ORGANIZER;CN="Michelle Hummel":MAILTO:info@michelleshummel.com
END:VEVENT
BEGIN:VEVENT
DTSTART;TZID=UTC:20160929T090000
DTEND;TZID=UTC:20160929T170000
DTSTAMP:20260420T185107
CREATED:20160831T212046Z
LAST-MODIFIED:20160831T212046Z
UID:2912-1475139600-1475168400@socialmediaenthusiasts.com
SUMMARY:Virtual Social Media Bootcamp Certification Training ANYWHERE\, USA
DESCRIPTION:
URL:https://socialmediaenthusiasts.com/event/virtual-social-media-bootcamp-certification-training-anywhere-usa-3-2/
CATEGORIES:Online Training Events
ATTACH;FMTTYPE=image/jpeg:https://socialmediaenthusiasts.com/wp-content/uploads/2016/06/BEST-WMU.jpg
ORGANIZER;CN="Michelle Hummel":MAILTO:info@michelleshummel.com
END:VEVENT
END:VCALENDAR