BEGIN:VCALENDAR
VERSION:2.0
PRODID:-//Social Media Enthusiasts - ECPv6.15.17.1//NONSGML v1.0//EN
CALSCALE:GREGORIAN
METHOD:PUBLISH
X-WR-CALNAME:Social Media Enthusiasts
X-ORIGINAL-URL:https://socialmediaenthusiasts.com
X-WR-CALDESC:Events for Social Media Enthusiasts
REFRESH-INTERVAL;VALUE=DURATION:PT1H
X-Robots-Tag:noindex
X-PUBLISHED-TTL:PT1H
BEGIN:VTIMEZONE
TZID:UTC
BEGIN:STANDARD
TZOFFSETFROM:+0000
TZOFFSETTO:+0000
TZNAME:UTC
DTSTART:20150101T000000
END:STANDARD
END:VTIMEZONE
BEGIN:VEVENT
DTSTART;TZID=UTC:20160804T090000
DTEND;TZID=UTC:20160804T170000
DTSTAMP:20260420T213535
CREATED:20160609T214511Z
LAST-MODIFIED:20160609T214511Z
UID:2521-1470301200-1470330000@socialmediaenthusiasts.com
SUMMARY:Live Online Social Media Bootcamp Certification Training ANYWHERE\, USA
DESCRIPTION:
URL:https://socialmediaenthusiasts.com/event/live-online-social-media-bootcamp-certification-training-2/
CATEGORIES:Online Training Events
ATTACH;FMTTYPE=image/jpeg:https://socialmediaenthusiasts.com/wp-content/uploads/2016/06/WMU-Seal.jpg
END:VEVENT
BEGIN:VEVENT
DTSTART;TZID=UTC:20160804T090000
DTEND;TZID=UTC:20160804T170000
DTSTAMP:20260420T213535
CREATED:20160609T214511Z
LAST-MODIFIED:20160609T214511Z
UID:2894-1470301200-1470330000@socialmediaenthusiasts.com
SUMMARY:Live Online Social Media Bootcamp Certification Training ANYWHERE\, USA
DESCRIPTION:
URL:https://socialmediaenthusiasts.com/event/live-online-social-media-bootcamp-certification-training-2-2/
CATEGORIES:Online Training Events
ATTACH;FMTTYPE=image/jpeg:https://socialmediaenthusiasts.com/wp-content/uploads/2016/06/WMU-Seal.jpg
END:VEVENT
END:VCALENDAR