BEGIN:VCALENDAR
VERSION:2.0
PRODID:-//Social Media Enthusiasts - ECPv6.15.17.1//NONSGML v1.0//EN
CALSCALE:GREGORIAN
METHOD:PUBLISH
X-ORIGINAL-URL:https://socialmediaenthusiasts.com
X-WR-CALDESC:Events for Social Media Enthusiasts
REFRESH-INTERVAL;VALUE=DURATION:PT1H
X-Robots-Tag:noindex
X-PUBLISHED-TTL:PT1H
BEGIN:VTIMEZONE
TZID:UTC
BEGIN:STANDARD
TZOFFSETFROM:+0000
TZOFFSETTO:+0000
TZNAME:UTC
DTSTART:20150101T000000
END:STANDARD
END:VTIMEZONE
BEGIN:VEVENT
DTSTART;TZID=UTC:20160727T090000
DTEND;TZID=UTC:20160727T170000
DTSTAMP:20260421T002030
CREATED:20160609T213104Z
LAST-MODIFIED:20160609T213104Z
UID:2512-1469610000-1469638800@socialmediaenthusiasts.com
SUMMARY:Social Media Management and Marketing Certification COLUMBUS\, OH
DESCRIPTION:
URL:https://socialmediaenthusiasts.com/event/social-media-management-and-marketing-certification-columbus/
LOCATION:CompuSuites\, 5000 Arlington Center Blvd\, Upper Arlington\, OH\, United States
CATEGORIES:Training Events
ATTACH;FMTTYPE=image/jpeg:https://socialmediaenthusiasts.com/wp-content/uploads/2016/06/WMU-Seal.jpg
END:VEVENT
BEGIN:VEVENT
DTSTART;TZID=UTC:20160727T090000
DTEND;TZID=UTC:20160727T170000
DTSTAMP:20260421T002030
CREATED:20160609T213104Z
LAST-MODIFIED:20160609T213104Z
UID:2887-1469610000-1469638800@socialmediaenthusiasts.com
SUMMARY:Social Media Management and Marketing Certification COLUMBUS\, OH
DESCRIPTION:
URL:https://socialmediaenthusiasts.com/event/social-media-management-and-marketing-certification-columbus-2/
LOCATION:CompuSuites\, 5000 Arlington Center Blvd\, Upper Arlington\, OH\, United States
CATEGORIES:Training Events
ATTACH;FMTTYPE=image/jpeg:https://socialmediaenthusiasts.com/wp-content/uploads/2016/06/WMU-Seal.jpg
END:VEVENT
END:VCALENDAR