BEGIN:VCALENDAR
VERSION:2.0
PRODID:-//Social Media Enthusiasts - ECPv6.15.17.1//NONSGML v1.0//EN
CALSCALE:GREGORIAN
METHOD:PUBLISH
X-WR-CALNAME:Social Media Enthusiasts
X-ORIGINAL-URL:https://socialmediaenthusiasts.com
X-WR-CALDESC:Events for Social Media Enthusiasts
REFRESH-INTERVAL;VALUE=DURATION:PT1H
X-Robots-Tag:noindex
X-PUBLISHED-TTL:PT1H
BEGIN:VTIMEZONE
TZID:UTC
BEGIN:STANDARD
TZOFFSETFROM:+0000
TZOFFSETTO:+0000
TZNAME:UTC
DTSTART:20150101T000000
END:STANDARD
END:VTIMEZONE
BEGIN:VEVENT
DTSTART;TZID=UTC:20160720T113000
DTEND;TZID=UTC:20160720T130000
DTSTAMP:20260421T025523
CREATED:20160609T213258Z
LAST-MODIFIED:20160609T213258Z
UID:2514-1469014200-1469019600@socialmediaenthusiasts.com
SUMMARY:Free Lunch & Learn: How Personal Branding With Social Media Can Attract Leads MIAMI\, FL
DESCRIPTION:
URL:https://socialmediaenthusiasts.com/event/free-lunch-learn-how-personal-branding-with-social-media-can-attract-leads-2/
CATEGORIES:Training Events
ATTACH;FMTTYPE=image/jpeg:https://socialmediaenthusiasts.com/wp-content/uploads/2016/06/g.jpg
END:VEVENT
BEGIN:VEVENT
DTSTART;TZID=UTC:20160720T113000
DTEND;TZID=UTC:20160720T130000
DTSTAMP:20260421T025523
CREATED:20160609T213258Z
LAST-MODIFIED:20160609T213258Z
UID:2888-1469014200-1469019600@socialmediaenthusiasts.com
SUMMARY:Free Lunch & Learn: How Personal Branding With Social Media Can Attract Leads MIAMI\, FL
DESCRIPTION:
URL:https://socialmediaenthusiasts.com/event/free-lunch-learn-how-personal-branding-with-social-media-can-attract-leads-2-2/
CATEGORIES:Training Events
ATTACH;FMTTYPE=image/jpeg:https://socialmediaenthusiasts.com/wp-content/uploads/2016/06/g.jpg
END:VEVENT
END:VCALENDAR