BEGIN:VCALENDAR
VERSION:2.0
PRODID:-//Social Media Enthusiasts - ECPv6.15.17.1//NONSGML v1.0//EN
CALSCALE:GREGORIAN
METHOD:PUBLISH
X-ORIGINAL-URL:https://socialmediaenthusiasts.com
X-WR-CALDESC:Events for Social Media Enthusiasts
REFRESH-INTERVAL;VALUE=DURATION:PT1H
X-Robots-Tag:noindex
X-PUBLISHED-TTL:PT1H
BEGIN:VTIMEZONE
TZID:UTC
BEGIN:STANDARD
TZOFFSETFROM:+0000
TZOFFSETTO:+0000
TZNAME:UTC
DTSTART:20150101T000000
END:STANDARD
END:VTIMEZONE
BEGIN:VEVENT
DTSTART;TZID=UTC:20160614T113000
DTEND;TZID=UTC:20160614T130000
DTSTAMP:20260421T053806
CREATED:20160608T020946Z
LAST-MODIFIED:20160608T020946Z
UID:2486-1465903800-1465909200@socialmediaenthusiasts.com
SUMMARY:FREE Lunch & Learn: How to Create an Engaging Social Media Content Strategy CINCINNATI\, OH
DESCRIPTION:
URL:https://socialmediaenthusiasts.com/event/free-lunch-learn-how-to-create-an-engaging-social-media-content-strategy/
LOCATION:Campbell County Library\, Newport Branch 901 E 6th St\, Newport\, KY\, United States
CATEGORIES:Training Events
ATTACH;FMTTYPE=image/jpeg:https://socialmediaenthusiasts.com/wp-content/uploads/2016/06/global_332305342.jpeg
END:VEVENT
BEGIN:VEVENT
DTSTART;TZID=UTC:20160614T113000
DTEND;TZID=UTC:20160614T130000
DTSTAMP:20260421T053806
CREATED:20160608T020946Z
LAST-MODIFIED:20160608T020946Z
UID:2883-1465903800-1465909200@socialmediaenthusiasts.com
SUMMARY:FREE Lunch & Learn: How to Create an Engaging Social Media Content Strategy CINCINNATI\, OH
DESCRIPTION:
URL:https://socialmediaenthusiasts.com/event/free-lunch-learn-how-to-create-an-engaging-social-media-content-strategy-2/
LOCATION:Campbell County Library\, Newport Branch 901 E 6th St\, Newport\, KY\, United States
CATEGORIES:Training Events
ATTACH;FMTTYPE=image/jpeg:https://socialmediaenthusiasts.com/wp-content/uploads/2016/06/global_332305342.jpeg
END:VEVENT
END:VCALENDAR